Workbook

Sheet Cover Page
A20: Block, Inc.
A21: Historical financials as of Q3 2023
A23: Blue numbers | B23: Hardcoded historical financials
A24: Shaded grey | B24: Historical financial metrics items that are no longer disclosed in our financials and will continue to be excluded from our financials in the future
A27: The information contained in this file speaks only as of the particular date or dates included in the accompanying pages. Block, Inc. (the "Company") does not undertake an obligation to, and disclaims any duty to, update any of the information provided.
A30: The information contained in this file contains certain financial and other information reproduced or derived from more comprehensive information contained in our quarterly shareholders letters and periodic reports and other filings with the Securities and Exchange Commission (SEC). The information contained in this file is unaudited unless otherwise noted or accompanied by an audit opinion and is not intended as a substitute for, and should be read in the context of, the information contained in these other documents. In the event of any conflict, the information contained in our quarterly shareholders letters and our periodic reports and filings with the SEC shall take precedence. The information contained in this file speaks only as of the particular date or dates included in the accompanying pages.
A32: The file also contains certain non-GAAP financial measures. The Company uses non-GAAP financial measures, among other financial measures, to evaluate its operating performance. Management believes that excluding certain items that are not comparable from period to period can help investors compare operating performance between two periods. These non-GAAP financial measures should not be considered in isolation from, or as a substitute for, financial information prepared in accordance with GAAP. Other companies, including companies in our industry, may calculate the non-GAAP financial measures differently or not at all, which reduces their usefulness as comparative measures. Definitions for each non-GAAP financial measure are available in the shareholder letter for the corresponding periods.

Sheet GAAP IS
A1: Block, Inc.
A2: Condensed Consolidated Statements of Operations
A3: (In thousands, except for per share amounts)
A4: (Unaudited, except for full year data) | C4: Three months ended | G4: Three months ended | K4: Three months ended | O4: Three months ended | S4: Three months ended | W4: Three months ended | AA4: Three months ended | AE4: Three months ended | AI4: Three months ended | AM4: Year ended | AV4: Trailing twelve months
C5: 42094 | D5: =EOMONTH(C5,3) -> 42185 | E5: =EOMONTH(D5,3) -> 42277 | F5: =EOMONTH(E5,3) -> 42369 | G5: =EOMONTH(F5,3) -> 42460 | H5: =EOMONTH(G5,3) -> 42551 | I5: =EOMONTH(H5,3) -> 42643 | J5: =EOMONTH(I5,3) -> 42735 | K5: =EOMONTH(J5,3) -> 42825 | ... U5: =EOMONTH(T5,3) -> 43738 | V5: 43830 | W5: 43921 | X5: 44012 | Y5: 44104 | Z5: 44196 | AA5: 44286 | AB5: 44377 | AC5: 44469 | AD5: =EOMONTH(AC5,3) -> 44561 | AE5: 44651 | AF5: 44742 | AG5: 44834 | AH5: 44926 | AI5: 45016 | AJ5: 45107 | AK5: 45199 | AV5: 44834 | AW5: 45199
C6: Mar 31, | D6: June 30, | E6: Sep 30, | F6: Dec 31, | G6: Mar 31, | H6: June 30, | I6: Sep 30, | J6: Dec 31, | K6: Mar 31, | L6: June 30, | M6: Sep 30, | N6: Dec 31, | O6: Mar 31, | P6: June 30, | Q6: Sep 30, | R6: Dec 31, | S6: Mar 31, | T6: June 30, | U6: Sep 30, | V6: Dec 31, | W6: Mar 31, | X6: June 30, | Y6: Sep 30, | Z6: Dec 31, | AA6: Mar 31, | AB6: June 30, | AC6: Sep 30, | AD6: Dec 31, | AE6: Mar 31, | AF6: June 30, | AG6: Sep 30, | AH6: Dec 31, | AI6: Mar 31, | AJ6: June 30, | AK6: Sep 30, | AM6: Dec 31, | AN6: Dec 31, | AO6: Dec 31, | AP6: Dec 31, | AQ6: Dec 31, | AR6: Dec 31, | AS6: Dec 31, | AT6: Dec 31, | AV6: Sep 30, | AW6: Sep 30,
C7: 2015 | D7: 2015 | E7: 2015 | F7: 2015 | G7: 2016 | H7: 2016 | I7: 2016 | J7: 2016 | K7: 2017 | L7: 2017 | M7: 2017 | N7: 2017 | O7: 2018 | P7: 2018 | Q7: 2018 | R7: 2018 | S7: 2019 | T7: 2019 | U7: 2019 | V7: 2019 | W7: 2020 | X7: 2020 | Y7: 2020 | Z7: 2020 | AA7: 2021 | AB7: 2021 | AC7: 2021 | AD7: 2021 | AE7: 2022 | AF7: 2022 | AG7: 2022 | AH7: 2022 | AI7: 2023 | AJ7: 2023 | AK7: 2023 | AM7: 2015 | AN7: 2016 | AO7: 2017 | AP7: 2018 | AQ7: 2019 | AR7: 2020 | AS7: 2021 | AT7: 2022 | AV7: 2022 | AW7: 2023
A8: Revenue
A9: Transaction-based revenue | C9: 211110 | D9: 259864 | E9: 280955 | F9: 298516 | G9: 300453 | H9: 364864 | I9: 388347 | J9: 402496 | K9: 403478 | L9: 482065 | M9: 510019 | N9: 524612 | O9: 523037 | P9: 625228 | Q9: 655384 | R9: 667802 | S9: 656762 | T9: 775510 | U9: 816622 | V9: 832180 | W9: 758101 | X9: 682572 | Y9: 925294 | Z9: 929011 | AA9: 959733 | AB9: 1227472 | AC9: 1297040 | AD9: 1308901 | AE9: 1232969 | AF9: 1475707 | AG9: 1517890 | AH9: 1474974 | AI9: 1422705 | AJ9: 1637654 | AK9: 1658668 | AM9: =SUMIFS($C9:$V9,$C$7:$V$7,AM$7) -> 1050445 | AN9: =SUMIFS($C9:$V9,$C$7:$V$7,AN$7) -> 1456160 | AO9: =SUMIFS($C9:$V9,$C$7:$V$7,AO$7) -> 1920174 | AP9: =SUMIFS($C9:$V9,$C$7:$V$7,AP$7) -> 2471451 | AQ9: =SUMIFS($C9:$V9,$C$7:$V$7,AQ$7) -> 3081074 | AR9: =SUMIFS($C9:$Z9,$C$7:$Z$7,AR$7) -> 3294978 | AS9: =SUMIFS($C9:$AD9,$C$7:$AD$7,AS$7) -> 4793146 | AT9: =SUMIFS($C9:$AH9,$C$7:$AH$7,AT$7) -> 5701540 | AV9: =SUMIFS($C9:$AJ9,$C$5:$AJ$5,"<="&AV$5,$C$5:$AJ$5,">"&EOMONTH(AV$5,-12)) -> 5535467 | AW9: =SUMIFS($C9:$AK9,$C$5:$AK$5,"<="&AW$5,$C$5:$AK$5,">"&EOMONTH(AW$5,-12)) -> 6194001
A10: Starbucks transaction-based revenue | C10: 29237 | D10: 33630 | E10: 32332 | F10: 47084 | G10: 38838 | H10: 32867 | I10: 7164 | J10: 34 | AM10: =SUMIFS($C10:$V10,$C$7:$V$7,AM$7) -> 142283 | AN10: =SUMIFS($C10:$V10,$C$7:$V$7,AN$7) -> 78903
A11: Subscription and services-based revenue | C11: 8006 | D11: 12928 | E11: 14694 | F11: 22385 | G11: 23796 | H11: 29717 | I11: 35320 | J11: 40518 | K11: 49060 | L11: 59151 | M11: 65051 | N11: 79402 | O11: 97054 | P11: 134332 | Q11: 166203 | R11: 194117 | S11: 218857 | T11: 251383 | U11: 279801 | V11: 281415 | W11: 296235 | X11: 346275 | Y11: 447522 | Z11: 449371 | AA11: 557681 | AB11: 685178 | AC11: 694770 | AD11: 772102 | AE11: 959557 | AF11: 1094856 | AG11: 1191511 | AH11: 1306849 | AI11: 1366224 | AJ11: 1461497 | AK11: 1492900 | AM11: =SUMIFS($C11:$V11,$C$7:$V$7,AM$7) -> 58013 | AN11: =SUMIFS($C11:$V11,$C$7:$V$7,AN$7) -> 129351 | AO11: =SUMIFS($C11:$V11,$C$7:$V$7,AO$7) -> 252664 | AP11: =SUMIFS($C11:$V11,$C$7:$V$7,AP$7) -> 591706 | AQ11: =SUMIFS($C11:$V11,$C$7:$V$7,AQ$7) -> 1031456 | AR11: =SUMIFS($C11:$Z11,$C$7:$Z$7,AR$7) -> 1539403 | AS11: =SUMIFS($C11:$AD11,$C$7:$AD$7,AS$7) -> 2709731 | AT11: =SUMIFS($C11:$AH11,$C$7:$AH$7,AT$7) -> 4552773 | AV11: =SUMIFS($C11:$AJ11,$C$5:$AJ$5,"<="&AV$5,$C$5:$AJ$5,">"&EOMONTH(AV$5,-12)) -> 4018026 | AW11: =SUMIFS($C11:$AK11,$C$5:$AK$5,"<="&AW$5,$C$5:$AK$5,">"&EOMONTH(AW$5,-12)) -> 5627470
A12: Hardware revenue | C12: 2204 | D12: 3591 | E12: 4207 | F12: 6375 | G12: 16182 | H12: 11085 | I12: 8171 | J12: 8869 | K12: 9016 | L12: 10289 | M12: 10089 | N12: 12021 | O12: 14417 | P12: 18362 | Q12: 17558 | R12: 18166 | S12: 18212 | T12: 22260 | U12: 21766 | V12: 22267 | W12: 20675 | X12: 19322 | Y12: 27294 | Z12: 24363 | AA12: 28788 | AB12: 43726 | AC12: 37255 | AD12: 35910 | AE12: 37326 | AF12: 48051 | AG12: 43388 | AH12: 35653 | AI12: 37451 | AJ12: 44922 | AK12: 42341 | AM12: =SUMIFS($C12:$V12,$C$7:$V$7,AM$7) -> 16377 | AN12: =SUMIFS($C12:$V12,$C$7:$V$7,AN$7) -> 44307 | AO12: =SUMIFS($C12:$V12,$C$7:$V$7,AO$7) -> 41415 | AP12: =SUMIFS($C12:$V12,$C$7:$V$7,AP$7) -> 68503 | AQ12: =SUMIFS($C12:$V12,$C$7:$V$7,AQ$7) -> 84505 | AR12: =SUMIFS($C12:$Z12,$C$7:$Z$7,AR$7) -> 91654 | AS12: =SUMIFS($C12:$AD12,$C$7:$AD$7,AS$7) -> 145679 | AT12: =SUMIFS($C12:$AH12,$C$7:$AH$7,AT$7) -> 164418 | AV12: =SUMIFS($C12:$AJ12,$C$5:$AJ$5,"<="&AV$5,$C$5:$AJ$5,">"&EOMONTH(AV$5,-12)) -> 164675 | AW12: =SUMIFS($C12:$AK12,$C$5:$AK$5,"<="&AW$5,$C$5:$AK$5,">"&EOMONTH(AW$5,-12)) -> 160367
A13: Bitcoin revenue | O13: 34095 | P13: 37016 | Q13: 42963 | R13: 52443 | S13: 65528 | T13: 125085 | U13: 148285 | V13: 177567 | W13: 306098 | X13: 875456 | Y13: 1633764 | Z13: 1756225 | AA13: 3511068 | AB13: 2724296 | AC13: 1815662 | AD13: 1961621 | AE13: 1730793 | AF13: 1785885 | AG13: 1762752 | AH13: 1833426 | AI13: 2163751 | AJ13: 2390884 | AK13: 2423584 | AP13: =SUMIFS($C13:$V13,$C$7:$V$7,AP$7) -> 166517 | AQ13: =SUMIFS($C13:$V13,$C$7:$V$7,AQ$7) -> 516465 | AR13: =SUMIFS($C13:$Z13,$C$7:$Z$7,AR$7) -> 4571543 | AS13: =SUMIFS($C13:$AD13,$C$7:$AD$7,AS$7) -> 10012647 | AT13: =SUMIFS($C13:$AH13,$C$7:$AH$7,AT$7) -> 7112856 | AV13: =SUMIFS($C13:$AJ13,$C$5:$AJ$5,"<="&AV$5,$C$5:$AJ$5,">"&EOMONTH(AV$5,-12)) -> 7241051 | AW13: =SUMIFS($C13:$AK13,$C$5:$AK$5,"<="&AW$5,$C$5:$AK$5,">"&EOMONTH(AW$5,-12)) -> 8811645
A14: Total net revenue | C14: =SUM(C9:C13) -> 250557 | D14: =SUM(D9:D13) -> 310013 | E14: =SUM(E9:E13) -> 332188 | F14: =SUM(F9:F13) -> 374360 | G14: =SUM(G9:G13) -> 379269 | H14: =SUM(H9:H13) -> 438533 | I14: =SUM(I9:I13) -> 439002 | J14: =SUM(J9:J13) -> 451917 | ... AK14: =SUM(AK9:AK13) -> 5617493 | AM14: =SUMIFS($C14:$V14,$C$7:$V$7,AM$7) -> 1267118 | AN14: =SUMIFS($C14:$V14,$C$7:$V$7,AN$7) -> 1708721 | AO14: =SUMIFS($C14:$V14,$C$7:$V$7,AO$7) -> 2214253 | AP14: =SUMIFS($C14:$V14,$C$7:$V$7,AP$7) -> 3298177 | AQ14: =SUMIFS($C14:$V14,$C$7:$V$7,AQ$7) -> 4713500 | AR14: =SUMIFS($C14:$Z14,$C$7:$Z$7,AR$7) -> 9497578 | AS14: =SUMIFS($C14:$AD14,$C$7:$AD$7,AS$7) -> 17661203 | AT14: =SUMIFS($C14:$AH14,$C$7:$AH$7,AT$7) -> 17531587 | AV14: =SUMIFS($C14:$AJ14,$C$5:$AJ$5,"<="&AV$5,$C$5:$AJ$5,">"&EOMONTH(AV$5,-12)) -> 16959219 | AW14: =SUMIFS($C14:$AK14,$C$5:$AK$5,"<="&AW$5,$C$5:$AK$5,">"&EOMONTH(AW$5,-12)) -> 20793483
A16: Cost of revenue
A17: Transaction-based costs | C17: 132107 | D17: 165823 | E17: 182007 | F17: 192730 | G17: 194276 | H17: 234857 | I17: 254061 | J17: 260006 | K17: 257778 | L17: 311092 | M17: 328043 | N17: 333377 | O17: 327911 | P17: 395349 | Q17: 414456 | R17: 420846 | S17: 409210 | T17: 490490 | U17: 519453 | V17: 519381 | W17: 466466 | X17: 389136 | Y17: 524056 | Z17: 536986 | AA17: 524281 | AB17: 682348 | AC17: 751794 | AD17: 761079 | AE17: 716236 | AF17: 875762 | AG17: 901990 | AH17: 870040 | AI17: 820787 | AJ17: 950523 | AK17: 984658 | AM17: =SUMIFS($C17:$V17,$C$7:$V$7,AM$7) -> 672667 | AN17: =SUMIFS($C17:$V17,$C$7:$V$7,AN$7) -> 943200 | AO17: =SUMIFS($C17:$V17,$C$7:$V$7,AO$7) -> 1230290 | AP17: =SUMIFS($C17:$V17,$C$7:$V$7,AP$7) -> 1558562 | AQ17: =SUMIFS($C17:$V17,$C$7:$V$7,AQ$7) -> 1938534 | AR17: =SUMIFS($C17:$Z17,$C$7:$Z$7,AR$7) -> 1916644 | AS17: =SUMIFS($C17:$AD17,$C$7:$AD$7,AS$7) -> 2719502 | AT17: =SUMIFS($C17:$AH17,$C$7:$AH$7,AT$7) -> 3364028 | AV17: =SUMIFS($C17:$AJ17,$C$5:$AJ$5,"<="&AV$5,$C$5:$AJ$5,">"&EOMONTH(AV$5,-12)) -> 3255067 | AW17: =SUMIFS($C17:$AK17,$C$5:$AK$5,"<="&AW$5,$C$5:$AK$5,">"&EOMONTH(AW$5,-12)) -> 3626008
A18: Starbucks transaction-based costs | C18: 36211 | D18: 40921 | E18: 41410 | F18: 46896 | G18: 36610 | H18: 28672 | I18: 4528 | J18: -49 | AM18: =SUMIFS($C18:$U18,$C$7:$U$7,AM$7) -> 165438 | AN18: =SUMIFS($C18:$U18,$C$7:$U$7,AN$7) -> 69761
A19: Subscription and services-based costs | C19: 3155 | D19: 5072 | E19: 5593 | F19: 8650 | G19: 9033 | H19: 10144 | I19: 12524 | J19: 11431 | K19: 15876 | L19: 17116 | M19: 18169 | N19: 24559 | O19: 30368 | P19: 39784 | Q19: 47078 | R19: 52654 | S19: 61174 | T19: 61113 | U19: 64561 | V19: 51472 | W19: 41908 | X19: 51365 | Y19: 68528 | Z19: 66848 | AA19: 88572 | AB19: 120810 | AC19: 128177 | AD19: 145497 | AE19: 182857 | AF19: 213271 | AG19: 225903 | AH19: 239714 | AI19: 264092 | AJ19: 279223 | AK19: 259262 | AM19: =SUMIFS($C19:$V19,$C$7:$V$7,AM$7) -> 22470 | AN19: =SUMIFS($C19:$U19,$C$7:$U$7,AN$7) -> 43132 | AO19: =SUMIFS($C19:$U19,$C$7:$U$7,AO$7) -> 75720 | AP19: =SUMIFS($C19:$U19,$C$7:$U$7,AP$7) -> 169884 | AQ19: =SUMIFS($C19:$V19,$C$7:$V$7,AQ$7) -> 238320 | AR19: =SUMIFS($C19:$Z19,$C$7:$Z$7,AR$7) -> 228649 | AS19: =SUMIFS($C19:$AD19,$C$7:$AD$7,AS$7) -> 483056 | AT19: =SUMIFS($C19:$AH19,$C$7:$AH$7,AT$7) -> 861745 | AV19: =SUMIFS($C19:$AJ19,$C$5:$AJ$5,"<="&AV$5,$C$5:$AJ$5,">"&EOMONTH(AV$5,-12)) -> 767528 | AW19: =SUMIFS($C19:$AK19,$C$5:$AK$5,"<="&AW$5,$C$5:$AK$5,">"&EOMONTH(AW$5,-12)) -> 1042291
A20: Hardware costs | C20: 4197 | D20: 6713 | E20: 5726 | F20: 14238 | G20: 26740 | H20: 14015 | I20: 15689 | J20: 12118 | K20: 12662 | L20: 14173 | M20: 18775 | N20: 16783 | O20: 19702 | P20: 25536 | Q20: 23229 | R20: 25647 | S20: 27525 | T20: 33852 | U20: 36256 | V20: 41089 | W20: 34808 | X20: 28320 | Y20: 45220 | Z20: 35994 | AA20: 40482 | AB20: 61403 | AC20: 51150 | AD20: 68150 | AE20: 63664 | AF20: 83494 | AG20: 76002 | AH20: 63835 | AI20: 58785 | AJ20: 74085 | AK20: 78338 | AM20: =SUMIFS($C20:$U20,$C$7:$U$7,AM$7) -> 30874 | AN20: =SUMIFS($C20:$U20,$C$7:$U$7,AN$7) -> 68562 | AO20: =SUMIFS($C20:$U20,$C$7:$U$7,AO$7) -> 62393 | AP20: =SUMIFS($C20:$U20,$C$7:$U$7,AP$7) -> 94114 | AQ20: =SUMIFS($C20:$V20,$C$7:$V$7,AQ$7) -> 138722 | AR20: =SUMIFS($C20:$Z20,$C$7:$Z$7,AR$7) -> 144342 | AS20: =SUMIFS($C20:$AD20,$C$7:$AD$7,AS$7) -> 221185 | AT20: =SUMIFS($C20:$AH20,$C$7:$AH$7,AT$7) -> 286995 | AV20: =SUMIFS($C20:$AJ20,$C$5:$AJ$5,"<="&AV$5,$C$5:$AJ$5,">"&EOMONTH(AV$5,-12)) -> 291310 | AW20: =SUMIFS($C20:$AK20,$C$5:$AK$5,"<="&AW$5,$C$5:$AK$5,">"&EOMONTH(AW$5,-12)) -> 275043
A21: Bitcoin costs | O21: 33872 | P21: 36596 | Q21: 42408 | R21: 51951 | S21: 64696 | T21: 122938 | U21: 146167 | V21: 174438 | W21: 299426 | X21: 858041 | Y21: 1601615 | Z21: 1715452 | AA21: 3436135 | AB21: 2669641 | AC21: 1774040 | AD21: 1915176 | AE21: 1687459 | AF21: 1744425 | AG21: 1726051 | AH21: 1798798 | AI21: 2113375 | AJ21: 2346633 | AK21: 2378906 | AP21: =SUMIFS($C21:$U21,$C$7:$U$7,AP$7) -> 164827 | AQ21: =SUMIFS($C21:$V21,$C$7:$V$7,AQ$7) -> 508239 | AR21: =SUMIFS($C21:$Z21,$C$7:$Z$7,AR$7) -> 4474534 | AS21: =SUMIFS($C21:$AD21,$C$7:$AD$7,AS$7) -> 9794992 | AT21: =SUMIFS($C21:$AH21,$C$7:$AH$7,AT$7) -> 6956733 | AV21: =SUMIFS($C21:$AJ21,$C$5:$AJ$5,"<="&AV$5,$C$5:$AJ$5,">"&EOMONTH(AV$5,-12)) -> 7073111 | AW21: =SUMIFS($C21:$AK21,$C$5:$AK$5,"<="&AW$5,$C$5:$AK$5,">"&EOMONTH(AW$5,-12)) -> 8637712
A22: Amortization of acquired technology assets(1) | C22: 602 | D22: 1142 | E22: 1142 | F22: 2753 | G22: 2370 | H22: 1886 | I22: 1886 | J22: 1886 | K22: 1807 | L22: 1695 | M22: 1556 | N22: 1486 | O22: 1580 | P22: 1857 | Q22: 2277 | R22: 1376 | S22: 0 | T22: 0 | U22: 0 | V22: 0 | W22: 0 | X22: 0 | Y22: 0 | Z22: 0 | AA22: 4300 | AB22: 5405 | AC22: 6351 | AD22: 6590 | AE22: 15469 | AF22: 17899 | AG22: 18506 | AH22: 18320 | AI22: 18508 | AJ22: 18392 | AK22: 17880 | AM22: =SUMIFS($C22:$U22,$C$7:$U$7,AM$7) -> 5639 | AN22: =SUMIFS($C22:$U22,$C$7:$U$7,AN$7) -> 8028 | AO22: =SUMIFS($C22:$U22,$C$7:$U$7,AO$7) -> 6544 | AP22: =SUMIFS($C22:$U22,$C$7:$U$7,AP$7) -> 7090 | AQ22: =SUMIFS($C22:$V22,$C$7:$V$7,AQ$7) -> 0 | AR22: =SUMIFS($C22:$Z22,$C$7:$Z$7,AR$7) -> 0 | AS22: 22645 | AT22: =SUMIFS($C22:$AH22,$C$7:$AH$7,AT$7) -> 70194 | AV22: =SUMIFS($C22:$AJ22,$C$5:$AJ$5,"<="&AV$5,$C$5:$AJ$5,">"&EOMONTH(AV$5,-12)) -> 58464 | AW22: =SUMIFS($C22:$AK22,$C$5:$AK$5,"<="&AW$5,$C$5:$AK$5,">"&EOMONTH(AW$5,-12)) -> 73100
A23: Total cost of revenue | C23: =SUM(C17:C22) -> 176272 | D23: =SUM(D17:D22) -> 219671 | E23: =SUM(E17:E22) -> 235878 | F23: =SUM(F17:F22) -> 265267 | G23: =SUM(G17:G22) -> 269029 | H23: =SUM(H17:H22) -> 289574 | I23: =SUM(I17:I22) -> 288688 | J23: =SUM(J17:J22) -> 285392 | ... AK23: =SUM(AK17:AK22) -> 3719044 | AM23: =SUMIFS($C23:$U23,$C$7:$U$7,AM$7) -> 897088 | AN23: =SUMIFS($C23:$U23,$C$7:$U$7,AN$7) -> 1132683 | AO23: =SUMIFS($C23:$U23,$C$7:$U$7,AO$7) -> 1374947 | AP23: =SUMIFS($C23:$U23,$C$7:$U$7,AP$7) -> 1994477 | AQ23: =SUMIFS($C23:$V23,$C$7:$V$7,AQ$7) -> 2823815 | AR23: =SUMIFS($C23:$Z23,$C$7:$Z$7,AR$7) -> 6764169 | AS23: =SUM(AS17:AS22) -> 13241380 | AT23: =SUMIFS($C23:$AH23,$C$7:$AH$7,AT$7) -> 11539695 | AV23: =SUMIFS($C23:$AJ23,$C$5:$AJ$5,"<="&AV$5,$C$5:$AJ$5,">"&EOMONTH(AV$5,-12)) -> 11445480 | AW23: =SUMIFS($C23:$AK23,$C$5:$AK$5,"<="&AW$5,$C$5:$AK$5,">"&EOMONTH(AW$5,-12)) -> 13654154
A24: Gross profit | C24: =C14-C23 -> 74285 | D24: =D14-D23 -> 90342 | E24: =E14-E23 -> 96310 | F24: =F14-F23 -> 109093 | G24: =G14-G23 -> 110240 | H24: =H14-H23 -> 148959 | I24: =I14-I23 -> 150314 | J24: =J14-J23 -> 166525 | ... AK24: =AK14-AK23 -> 1898449 | AM24: =SUMIFS($C24:$U24,$C$7:$U$7,AM$7) -> 370030 | AN24: =SUMIFS($C24:$U24,$C$7:$U$7,AN$7) -> 576038 | AO24: =SUMIFS($C24:$U24,$C$7:$U$7,AO$7) -> 839306 | AP24: =SUMIFS($C24:$U24,$C$7:$U$7,AP$7) -> 1303700 | AQ24: =SUMIFS($C24:$V24,$C$7:$V$7,AQ$7) -> 1889685 | AR24: =SUMIFS($C24:$Z24,$C$7:$Z$7,AR$7) -> 2733409 | AS24: =AS14-AS23 -> 4419823 | AT24: =SUMIFS($C24:$AH24,$C$7:$AH$7,AT$7) -> 5991892 | AV24: =SUMIFS($C24:$AJ24,$C$5:$AJ$5,"<="&AV$5,$C$5:$AJ$5,">"&EOMONTH(AV$5,-12)) -> 5513739 | AW24: =SUMIFS($C24:$AK24,$C$5:$AK$5,"<="&AW$5,$C$5:$AK$5,">"&EOMONTH(AW$5,-12)) -> 7139329
A26: Operating expenses
A27: Product development | C27: 39545 | D27: 45887 | E27: 55020 | F27: 59186 | G27: 64592 | H27: 68638 | I27: 70418 | J27: 64889 | K27: 68582 | L27: 78126 | M27: 82547 | N27: 92633 | O27: 105095 | P27: 114800 | Q27: 135773 | R27: 141811 | S27: 155240 | T27: 175090 | U27: 169661 | V27: 174174 | W27: 195876 | X27: 207730 | Y27: 227550 | Z27: 254525 | AA27: 307711 | AB27: 324058 | AC27: 360729 | AD27: 391343 | AE27: 458224 | AF27: 524827 | AG27: 548037 | AH27: 604524 | AI27: 626937 | AJ27: 694672 | AK27: 713788 | AM27: =SUMIFS($C27:$V27,$C$7:$V$7,AM$7) -> 199638 | AN27: =SUMIFS($C27:$U27,$C$7:$U$7,AN$7) -> 268537 | AO27: =SUMIFS($C27:$U27,$C$7:$U$7,AO$7) -> 321888 | AP27: =SUMIFS($C27:$U27,$C$7:$U$7,AP$7) -> 497479 | AQ27: =SUMIFS($C27:$V27,$C$7:$V$7,AQ$7) -> 674165 | AR27: =SUMIFS($C27:$Z27,$C$7:$Z$7,AR$7) -> 885681 | AS27: =SUMIFS($C27:$AD27,$C$7:$AD$7,AS$7) -> 1383841 | AT27: =SUMIFS($C27:$AH27,$C$7:$AH$7,AT$7) -> 2135612 | AV27: =SUMIFS($C27:$AJ27,$C$5:$AJ$5,"<="&AV$5,$C$5:$AJ$5,">"&EOMONTH(AV$5,-12)) -> 1922431 | AW27: =SUMIFS($C27:$AK27,$C$5:$AK$5,"<="&AW$5,$C$5:$AK$5,">"&EOMONTH(AW$5,-12)) -> 2639921
A28: Sales and marketing | C28: 36181 | D28: 31730 | E28: 39259 | F28: 38448 | G28: 38496 | H28: 39220 | I28: 46754 | J28: 49406 | K28: 49900 | L28: 59916 | M28: 66533 | N28: 76821 | O28: 77266 | P28: 98243 | Q28: 116337 | R28: 119305 | S28: 133848 | T28: 156556 | U28: 149491 | V28: 185231 | W28: 194535 | X28: 238096 | Y28: 348463 | Z28: 328576 | AA28: 349460 | AB28: 373878 | AC28: 409073 | AD28: 484778 | AE28: 501562 | AF28: 530827 | AG28: 485838 | AH28: 539724 | AI28: 496011 | AJ28: 537607 | AK28: 479381 | AM28: =SUMIFS($C28:$U28,$C$7:$U$7,AM$7) -> 145618 | AN28: =SUMIFS($C28:$U28,$C$7:$U$7,AN$7) -> 173876 | AO28: =SUMIFS($C28:$U28,$C$7:$U$7,AO$7) -> 253170 | AP28: =SUMIFS($C28:$U28,$C$7:$U$7,AP$7) -> 411151 | AQ28: =SUMIFS($C28:$V28,$C$7:$V$7,AQ$7) -> 625126 | AR28: =SUMIFS($C28:$Z28,$C$7:$Z$7,AR$7) -> 1109670 | AS28: =SUMIFS($C28:$AD28,$C$7:$AD$7,AS$7) -> 1617189 | AT28: =SUMIFS($C28:$AH28,$C$7:$AH$7,AT$7) -> 2057951 | AV28: =SUMIFS($C28:$AJ28,$C$5:$AJ$5,"<="&AV$5,$C$5:$AJ$5,">"&EOMONTH(AV$5,-12)) -> 2003005 | AW28: =SUMIFS($C28:$AK28,$C$5:$AK$5,"<="&AW$5,$C$5:$AK$5,">"&EOMONTH(AW$5,-12)) -> 2052723
A29: General and administrative | C29: 28119 | D29: 31804 | E29: 37820 | F29: 45723 | G29: 96107 | H29: 50784 | I29: 52075 | J29: 53027 | K29: 56935 | L29: 62988 | M29: 64312 | N29: 66318 | O29: 75501 | P29: 82772 | Q29: 85527 | R29: 95445 | S29: 101867 | T29: 100778 | U29: 116069 | V29: 118164 | W29: 129495 | X29: 136386 | Y29: 153902 | Z29: 159420 | AA29: 195783 | AB29: 220892 | AC29: 267348 | AD29: 298794 | AE29: 444149 | AF29: 395720 | AG29: 395437 | AH29: 451543 | AI29: 432825 | AJ29: 549293 | AK29: 480885 | AM29: =SUMIFS($C29:$U29,$C$7:$U$7,AM$7) -> 143466 | AN29: =SUMIFS($C29:$U29,$C$7:$U$7,AN$7) -> 251993 | AO29: =SUMIFS($C29:$U29,$C$7:$U$7,AO$7) -> 250553 | AP29: =SUMIFS($C29:$U29,$C$7:$U$7,AP$7) -> 339245 | AQ29: =SUMIFS($C29:$V29,$C$7:$V$7,AQ$7) -> 436878 | AR29: =SUMIFS($C29:$Z29,$C$7:$Z$7,AR$7) -> 579203 | AS29: =SUMIFS($C29:$AD29,$C$7:$AD$7,AS$7) -> 982817 | AT29: =SUMIFS($C29:$AH29,$C$7:$AH$7,AT$7) -> 1686849 | AV29: =SUMIFS($C29:$AJ29,$C$5:$AJ$5,"<="&AV$5,$C$5:$AJ$5,">"&EOMONTH(AV$5,-12)) -> 1534100 | AW29: =SUMIFS($C29:$AK29,$C$5:$AK$5,"<="&AW$5,$C$5:$AK$5,">"&EOMONTH(AW$5,-12)) -> 1914546
A30: Transaction, loan, and consumer receivable losses | C30: 16322 | D30: 8513 | E30: 16005 | F30: 13169 | G30: 7861 | H30: 17455 | I30: 12885 | J30: 13034 | K30: 11891 | L30: 18401 | M30: 19893 | N30: 16833 | O30: 18031 | P30: 21976 | Q30: 23596 | R30: 24474 | S30: 27841 | T30: 34264 | U30: 32722 | V30: 32132 | W30: 108883 | X30: 37603 | Y30: 15198 | Z30: 15986 | AA30: 20395 | AB30: 48173 | AC30: 62306 | AD30: 57117 | AE30: 91150 | AF30: 156697 | AG30: 147586 | AH30: 155250 | AI30: 127896 | AJ30: 179771 | AK30: 177338 | AM30: =SUMIFS($C30:$U30,$C$7:$U$7,AM$7) -> 54009 | AN30: =SUMIFS($C30:$U30,$C$7:$U$7,AN$7) -> 51235 | AO30: =SUMIFS($C30:$U30,$C$7:$U$7,AO$7) -> 67018 | AP30: =SUMIFS($C30:$U30,$C$7:$U$7,AP$7) -> 88077 | AQ30: =SUMIFS($C30:$V30,$C$7:$V$7,AQ$7) -> 126959 | AR30: =SUMIFS($C30:$Z30,$C$7:$Z$7,AR$7) -> 177670 | AS30: =SUMIFS($C30:$AD30,$C$7:$AD$7,AS$7) -> 187991 | AT30: =SUMIFS($C30:$AH30,$C$7:$AH$7,AT$7) -> 550683 | AV30: =SUMIFS($C30:$AJ30,$C$5:$AJ$5,"<="&AV$5,$C$5:$AJ$5,">"&EOMONTH(AV$5,-12)) -> 452550 | AW30: =SUMIFS($C30:$AK30,$C$5:$AK$5,"<="&AW$5,$C$5:$AK$5,">"&EOMONTH(AW$5,-12)) -> 640255
A31: Bitcoin impairment losses | AA31: 19860 | AB31: 45266 | AC31: 6000 | AD31: 0 | AE31: 0 | AF31: 35961 | AG31: 1619 | AH31: 8991 | AI31: 0 | AJ31: 0 | AK31: 0 | AS31: =SUMIFS($C31:$AD31,$C$7:$AD$7,AS$7) -> 71126 | AT31: =SUMIFS($C31:$AH31,$C$7:$AH$7,AT$7) -> 46571 | AV31: =SUMIFS($C31:$AJ31,$C$5:$AJ$5,"<="&AV$5,$C$5:$AJ$5,">"&EOMONTH(AV$5,-12)) -> 37580 | AW31: =SUMIFS($C31:$AK31,$C$5:$AK$5,"<="&AW$5,$C$5:$AK$5,">"&EOMONTH(AW$5,-12)) -> 8991
A32: Amortization of customer and other acquired intangible assets(2) | C32: 468 | D32: 482 | E32: 423 | F32: 384 | G32: 317 | H32: 222 | I32: 164 | J32: 147 | K32: 205 | L32: 222 | M32: 222 | N32: 234 | O32: 269 | P32: 672 | Q32: 1294 | R32: 2127 | S32: 0 | T32: 0 | U32: 0 | V32: 0 | W32: 0 | X32: 0 | Y32: 0 | Z32: 0 | AA32: 2557 | AB32: 3802 | AC32: 4763 | AD32: 4625 | AE32: 26664 | AF32: 39389 | AG32: 37361 | AH32: 35344 | AI32: 37087 | AJ32: 36865 | AK32: 56965 | AM32: =SUMIFS($C32:$U32,$C$7:$U$7,AM$7) -> 1757 | AN32: =SUMIFS($C32:$U32,$C$7:$U$7,AN$7) -> 850 | AO32: =SUMIFS($C32:$U32,$C$7:$U$7,AO$7) -> 883 | AP32: =SUMIFS($C32:$U32,$C$7:$U$7,AP$7) -> 4362 | AQ32: =SUMIFS($C32:$V32,$C$7:$V$7,AQ$7) -> 0 | AR32: =SUMIFS($C32:$Z32,$C$7:$Z$7,AR$7) -> 0 | AS32: =SUMIFS($C32:$AD32,$C$7:$AD$7,AS$7) -> 15747 | AT32: =SUMIFS($C32:$AH32,$C$7:$AH$7,AT$7) -> 138758 | AV32: =SUMIFS($C32:$AJ32,$C$5:$AJ$5,"<="&AV$5,$C$5:$AJ$5,">"&EOMONTH(AV$5,-12)) -> 108039 | AW32: =SUMIFS($C32:$AK32,$C$5:$AK$5,"<="&AW$5,$C$5:$AK$5,">"&EOMONTH(AW$5,-12)) -> 166261
A33: Total operating expenses | C33: =SUM(C27:C32) -> 120635 | D33: =SUM(D27:D32) -> 118416 | E33: =SUM(E27:E32) -> 148527 | F33: =SUM(F27:F32) -> 156910 | G33: =SUM(G27:G32) -> 207373 | H33: =SUM(H27:H32) -> 176319 | I33: =SUM(I27:I32) -> 182296 | J33: =SUM(J27:J32) -> 180503 | ... AK33: =SUM(AK27:AK32) -> 1908357 | AM33: =SUMIFS($C33:$U33,$C$7:$U$7,AM$7) -> 544488 | AN33: =SUMIFS($C33:$U33,$C$7:$U$7,AN$7) -> 746491 | AO33: =SUMIFS($C33:$U33,$C$7:$U$7,AO$7) -> 893512 | AP33: =SUMIFS($C33:$U33,$C$7:$U$7,AP$7) -> 1340314 | AQ33: =SUMIFS($C33:$V33,$C$7:$V$7,AQ$7) -> 1863128 | AR33: =SUMIFS($C33:$Z33,$C$7:$Z$7,AR$7) -> 2752224 | AS33: =SUM(AS27:AS32) -> 4258711 | AT33: =SUMIFS($C33:$AH33,$C$7:$AH$7,AT$7) -> 6616424 | AV33: =SUMIFS($C33:$AJ33,$C$5:$AJ$5,"<="&AV$5,$C$5:$AJ$5,">"&EOMONTH(AV$5,-12)) -> 6057705 | AW33: =SUMIFS($C33:$AK33,$C$5:$AK$5,"<="&AW$5,$C$5:$AK$5,">"&EOMONTH(AW$5,-12)) -> 7422697
A34: Operating income (loss) | C34: =C24-C33 -> -46350 | D34: =D24-D33 -> -28074 | E34: =E24-E33 -> -52217 | F34: =F24-F33 -> -47817 | G34: =G24-G33 -> -97133 | H34: =H24-H33 -> -27360 | I34: =I24-I33 -> -31982 | J34: =J24-J33 -> -13978 | ... W34: =W24-W33 -> -90288 | X34: -23052 | Y34: 49342 | Z34: =-18815-SUM(W34:Y34) -> 45183 | AA34: =AA24-AA33 -> 67734 | AB34: =AB24-AB33 -> 124996 | AC34: =AC24-AC33 -> 22996 | AD34: =AD24-AD33 -> -54615 | AE34: =AE24-AE33 -> -226789 | AF34: =AF24-AF33 -> -213773 | AG34: =AG24-AG33 -> -48789 | AH34: =AH24-AH33 -> -135181 | ... AK34: =AK24-AK33 -> -9908 | AM34: =SUMIFS($C34:$U34,$C$7:$U$7,AM$7) -> -174458 | AN34: =SUMIFS($C34:$U34,$C$7:$U$7,AN$7) -> -170453 | AO34: =SUMIFS($C34:$U34,$C$7:$U$7,AO$7) -> -54206 | AP34: =SUMIFS($C34:$U34,$C$7:$U$7,AP$7) -> -36614 | AQ34: =SUMIFS($C34:$V34,$C$7:$V$7,AQ$7) -> 26557 | AR34: =SUMIFS($C34:$Z34,$C$7:$Z$7,AR$7) -> -18815 | AS34: =AS24-AS33 -> 161112 | AT34: =SUMIFS($C34:$AH34,$C$7:$AH$7,AT$7) -> -624532 | AV34: =SUMIFS($C34:$AJ34,$C$5:$AJ$5,"<="&AV$5,$C$5:$AJ$5,">"&EOMONTH(AV$5,-12)) -> -543966 | AW34: =SUMIFS($C34:$AK34,$C$5:$AK$5,"<="&AW$5,$C$5:$AK$5,">"&EOMONTH(AW$5,-12)) -> -283368
A35: Gain on sale of asset group | V35: -373445
A36: Interest (income) expense, net | C36: 414 | D36: 444 | E36: 137 | F36: 168 | G36: 69 | H36: -129 | I36: -183 | J36: -290 | K36: 996 | L36: 3494 | M36: 3080 | N36: 2483 | O36: 2112 | P36: 3470 | Q36: 7224 | R36: 5176 | S36: 4681 | T36: 5143 | U36: 5632 | V36: 6060 | W36: 9206 | X36: 14769 | Y36: 14980 | Z36: 17988 | AA36: 253 | AB36: 6464 | AC36: 13409 | AD36: 12998 | AE36: 15748 | AF36: 12966 | AG36: 6042 | AH36: 1472 | AI36: -3161 | AJ36: -3944 | AK36: -21415 | AM36: =SUMIFS($C36:$V36,$C$7:$V$7,AM$7) -> 1163 | AN36: =SUMIFS($C36:$U36,$C$7:$U$7,AN$7) -> -533 | AO36: =SUMIFS($C36:$U36,$C$7:$U$7,AO$7) -> 10053 | AP36: =SUMIFS($C36:$U36,$C$7:$U$7,AP$7) -> 17982 | AQ36: =SUMIFS($C36:$V36,$C$7:$V$7,AQ$7) -> 21516 | AR36: =SUMIFS($C36:$Z36,$C$7:$Z$7,AR$7) -> 56943 | AS36: =SUMIFS($C36:$AD36,$C$7:$AD$7,AS$7) -> 33124 | AT36: =SUMIFS($C36:$AH36,$C$7:$AH$7,AT$7) -> 36228 | AV36: =SUMIFS($C36:$AJ36,$C$5:$AJ$5,"<="&AV$5,$C$5:$AJ$5,">"&EOMONTH(AV$5,-12)) -> 47754 | AW36: =SUMIFS($C36:$AK36,$C$5:$AK$5,"<="&AW$5,$C$5:$AK$5,">"&EOMONTH(AW$5,-12)) -> -27048
A37: Other (income) expense, net | C37: 796 | D37: -50 | E37: 644 | F37: -940 | G37: -786 | H37: -198 | I37: 294 | J37: 443 | K37: -497 | L37: -228 | M37: -1226 | N37: 356 | O37: 707 | P37: -815 | Q37: -37800 | R37: 19439 | S37: 11299 | T37: 1230 | U37: -5541 | V37: -6715 | W37: 5862 | X37: -25591 | Y37: -784 | Z37: -271212 | AA37: 27528 | AB37: -75788 | AC37: 12011 | AD37: 6776 | AE37: -33472 | AF37: -18766 | AG37: -18798 | AH37: -24407 | AI37: 18371 | AJ37: 1379 | AK37: -4262 | AM37: =SUMIFS($C37:$U37,$C$7:$U$7,AM$7) -> 450 | AN37: =SUMIFS($C37:$U37,$C$7:$U$7,AN$7) -> -247 | AO37: =SUMIFS($C37:$U37,$C$7:$U$7,AO$7) -> -1595 | AP37: =SUMIFS($C37:$U37,$C$7:$U$7,AP$7) -> -18469 | AQ37: =SUMIFS($C37:$V37,$C$7:$V$7,AQ$7) -> 273 | AR37: =SUMIFS($C37:$Z37,$C$7:$Z$7,AR$7) -> -291725 | AS37: =SUMIFS($C37:$AD37,$C$7:$AD$7,AS$7) -> -29473 | AT37: =SUMIFS($C37:$AH37,$C$7:$AH$7,AT$7) -> -95443 | AV37: =SUMIFS($C37:$AJ37,$C$5:$AJ$5,"<="&AV$5,$C$5:$AJ$5,">"&EOMONTH(AV$5,-12)) -> -64260 | AW37: =SUMIFS($C37:$AK37,$C$5:$AK$5,"<="&AW$5,$C$5:$AK$5,">"&EOMONTH(AW$5,-12)) -> -8919
A38: Income (loss) before income tax | C38: =C34-SUM(C36:C37) -> -47560 | D38: =D34-SUM(D36:D37) -> -28468 | E38: =E34-SUM(E36:E37) -> -52998 | F38: =F34-SUM(F36:F37) -> -47045 | G38: =G34-SUM(G36:G37) -> -96416 | H38: =H34-SUM(H36:H37) -> -27033 | I38: =I34-SUM(I36:I37) -> -32093 | J38: =J34-SUM(J36:J37) -> -14131 | ... U38: =U34-SUM(U36:U37) -> 32003 | V38: =V34-V35- SUM(V36:V37) -> 391448 | W38: =W34-W35- SUM(W36:W37) -> -105356 | X38: =X34-X35- SUM(X36:X37) -> -12230 | Y38: =Y34-Y35- SUM(Y36:Y37) -> 35146 | Z38: =Z34-Z35- SUM(Z36:Z37) -> 298407 | AA38: =AA34-AA35- SUM(AA36:AA37) -> 39953 | AB38: =AB34-AB35- SUM(AB36:AB37) -> 194320 | AC38: =AC34-AC35- SUM(AC36:AC37) -> -2424 | ... AK38: =AK34-AK35- SUM(AK36:AK37) -> 15769 | AM38: =SUMIF($C$7:$T$7,AM$7,$C38:$T38) -> -176071 | AN38: =SUMIF($C$7:$T$7,AN$7,$C38:$T38) -> -169673 | AO38: =SUMIF($C$7:$T$7,AO$7,$C38:$T38) -> -62664 | AP38: =SUMIF($C$7:$T$7,AP$7,$C38:$T38) -> -36127 | AQ38: =SUMIFS($C38:$V38,$C$7:$V$7,AQ$7) -> 378213 | AR38: =SUMIFS($C38:$Z38,$C$7:$Z$7,AR$7) -> 215967 | AS38: =AS34-AS35- SUM(AS36:AS37) -> 157461 | AT38: =SUMIFS($C38:$AH38,$C$7:$AH$7,AT$7) -> -565317 | AV38: =SUMIFS($C38:$AJ38,$C$5:$AJ$5,"<="&AV$5,$C$5:$AJ$5,">"&EOMONTH(AV$5,-12)) -> -527460 | AW38: =SUMIFS($C38:$AK38,$C$5:$AK$5,"<="&AW$5,$C$5:$AK$5,">"&EOMONTH(AW$5,-12)) -> -247401
A39: Provision (benefit) for income taxes | C39: 418 | D39: 1152 | E39: 932 | F39: 1244 | G39: 339 | H39: 312 | I39: 230 | J39: 1036 | K39: 509 | L39: 472 | M39: -647 | N39: -185 | O39: 175 | P39: 604 | Q39: 1066 | R39: 481 | S39: 129 | T39: -476 | U39: 2606 | V39: 508 | W39: 535 | X39: -752 | Y39: -1369 | Z39: 4448 | AA39: 947 | AB39: -9360 | AC39: 452 | AD39: 6597 | AE39: -1702 | AF39: 1304 | AG39: -17289 | AH39: 5375 | AI39: -2056 | AJ39: -3700 | AK39: 49529 | AM39: =SUMIFS($C39:$U39,$C$7:$U$7,AM$7) -> 3746 | AN39: =SUMIFS($C39:$U39,$C$7:$U$7,AN$7) -> 1917 | AO39: =SUMIFS($C39:$U39,$C$7:$U$7,AO$7) -> 149 | AP39: =SUMIFS($C39:$U39,$C$7:$U$7,AP$7) -> 2326 | AQ39: =SUMIFS($C39:$V39,$C$7:$V$7,AQ$7) -> 2767 | AR39: =SUMIFS($C39:$Z39,$C$7:$Z$7,AR$7) -> 2862 | AS39: =SUMIFS($C39:$AD39,$C$7:$AD$7,AS$7) -> -1364 | AT39: =SUMIFS($C39:$AH39,$C$7:$AH$7,AT$7) -> -12312 | AV39: =SUMIFS($C39:$AJ39,$C$5:$AJ$5,"<="&AV$5,$C$5:$AJ$5,">"&EOMONTH(AV$5,-12)) -> -11090 | AW39: =SUMIFS($C39:$AK39,$C$5:$AK$5,"<="&AW$5,$C$5:$AK$5,">"&EOMONTH(AW$5,-12)) -> 49148
A40: Deemed dividend on Series E preferred stock | F40: -32200
A41: Net income (loss) to common stockholders | F41: =F42+F40 -> -80489
A42: Net income (loss) | C42: =C38-C39 -> -47978 | D42: =D38-D39 -> -29620 | E42: =E38-E39 -> -53930 | F42: =F38-F39 -> -48289 | G42: =G38-G39 -> -96755 | H42: =H38-H39 -> -27345 | I42: =I38-I39 -> -32323 | J42: =J38-J39 -> -15167 | ... AK42: =AK38-AK39 -> -33760 | AM42: =SUMIF($C$7:$T$7,AM$7,$C42:$T42) -> -179817 | AN42: =SUMIF($C$7:$T$7,AN$7,$C42:$T42) -> -171590 | AO42: =SUMIF($C$7:$T$7,AO$7,$C42:$T42) -> -62813 | AP42: =SUMIF($C$7:$T$7,AP$7,$C42:$T42) -> -38453 | AQ42: =SUMIFS($C42:$V42,$C$7:$V$7,AQ$7) -> 375446 | AR42: =SUMIFS($C42:$Z42,$C$7:$Z$7,AR$7) -> 213105 | AS42: =AS38-AS39 -> 158825 | AT42: =SUMIFS($C42:$AH42,$C$7:$AH$7,AT$7) -> -553005 | AV42: =SUMIFS($C42:$AJ42,$C$5:$AJ$5,"<="&AV$5,$C$5:$AJ$5,">"&EOMONTH(AV$5,-12)) -> -516370 | AW42: =SUMIFS($C42:$AK42,$C$5:$AK$5,"<="&AW$5,$C$5:$AK$5,">"&EOMONTH(AW$5,-12)) -> -296549
...

Sheet Non-GAAP IS
A1: Block, Inc.
A2: Non-GAAP Disclosures
A3: (In thousands, except for per share amounts)
A4: (Unaudited) | C4: Three months ended | G4: Three months ended | K4: Three months ended | O4: Three months ended | S4: Three months ended | W4: Three months ended | AA4: Three months ended | AE4: Three months ended | AI4: Three months ended | AM4: Year ended | AV4: Trailing twelve months
C5: 42094 | D5: =EOMONTH(C5,3) -> 42185 | E5: =EOMONTH(D5,3) -> 42277 | F5: =EOMONTH(E5,3) -> 42369 | G5: =EOMONTH(F5,3) -> 42460 | H5: =EOMONTH(G5,3) -> 42551 | I5: =EOMONTH(H5,3) -> 42643 | J5: =EOMONTH(I5,3) -> 42735 | K5: =EOMONTH(J5,3) -> 42825 | ... U5: =EOMONTH(T5,3) -> 43738 | V5: 43830 | W5: 43921 | X5: 44012 | Y5: 44104 | Z5: 44196 | AA5: 44286 | AB5: 44377 | AC5: 44469 | AD5: 44561 | AE5: 44651 | AF5: 44742 | AG5: 44834 | AH5: 44926 | AI5: 45016 | AJ5: 45107 | AK5: 45199 | AV5: 44834 | AW5: 45199
C6: Mar 31, | D6: June 30, | E6: Sep 30, | F6: Dec 31, | G6: Mar 31, | H6: June 30, | I6: Sep 30, | J6: Dec 31, | K6: Mar 31, | L6: June 30, | M6: Sep 30, | N6: Dec 31, | O6: Mar 31, | P6: June 30, | Q6: Sep 30, | R6: Dec 31, | S6: Mar 31, | T6: June 30, | U6: Sep 30, | V6: Dec 31, | W6: Mar 31, | X6: June 30, | Y6: Sep 30, | Z6: Dec 31, | AA6: Mar 31, | AB6: June 30, | AC6: Sep 30, | AD6: Dec 31, | AE6: Mar 31, | AF6: June 30, | AG6: Sep 30, | AH6: Dec 31, | AI6: Mar 31, | AJ6: June 30, | AK6: Sep 30, | AM6: Dec 31, | AN6: Dec 31, | AO6: Dec 31, | AP6: Dec 31, | AQ6: Dec 31, | AR6: Dec 31, | AS6: Dec 31, | AT6: Dec 31, | AV6: Sep 30, | AW6: Sep 30,
C7: 2015 | D7: 2015 | E7: 2015 | F7: 2015 | G7: 2016 | H7: 2016 | I7: 2016 | J7: 2016 | K7: 2017 | L7: 2017 | M7: 2017 | N7: 2017 | O7: 2018 | P7: 2018 | Q7: 2018 | R7: 2018 | S7: 2019 | T7: 2019 | U7: 2019 | V7: 2019 | W7: 2020 | X7: 2020 | Y7: 2020 | Z7: 2020 | AA7: 2021 | AB7: 2021 | AC7: 2021 | AD7: 2021 | AE7: 2022 | AF7: 2022 | AG7: 2022 | AH7: 2022 | AI7: 2023 | AJ7: 2023 | AK7: 2023 | AM7: 2015 | AN7: 2016 | AO7: 2017 | AP7: 2018 | AQ7: 2019 | AR7: 2020 | AS7: 2021 | AT7: 2022 | AV7: 2022 | AW7: 2023
A8: Total net revenue, in accordance with GAAP | C8: ='GAAP IS'!C14 -> 250557 | D8: ='GAAP IS'!D14 -> 310013 | E8: ='GAAP IS'!E14 -> 332188 | F8: ='GAAP IS'!F14 -> 374360 | G8: ='GAAP IS'!G14 -> 379269 | H8: ='GAAP IS'!H14 -> 438533 | I8: ='GAAP IS'!I14 -> 439002 | J8: ='GAAP IS'!J14 -> 451917 | ... AK8: ='GAAP IS'!AK14 -> 5617493 | AM8: =SUMIFS($C8:$AD8,$C$7:$AD$7,AM$7) -> 1267118 | AN8: =SUMIFS($C8:$AD8,$C$7:$AD$7,AN$7) -> 1708721 | AO8: =SUMIFS($C8:$AD8,$C$7:$AD$7,AO$7) -> 2214253 | AP8: =SUMIFS($C8:$AD8,$C$7:$AD$7,AP$7) -> 3298177 | AQ8: =SUMIFS($C8:$AD8,$C$7:$AD$7,AQ$7) -> 4713500 | AR8: =SUMIFS($C8:$AD8,$C$7:$AD$7,AR$7) -> 9497578 | AS8: =SUMIFS($C8:$AD8,$C$7:$AD$7,AS$7) -> 17661203 | AT8: =SUMIFS($C8:$AH8,$C$7:$AH$7,AT$7) -> 17531587 | AV8: =SUMIFS($C8:$AJ8,$C$5:$AJ$5,"<="&AV$5,$C$5:$AJ$5,">"&EOMONTH(AV$5,-12)) -> 16959219 | AW8: =SUMIFS($C8:$AK8,$C$5:$AK$5,"<="&AW$5,$C$5:$AK$5,">"&EOMONTH(AW$5,-12)) -> 20793483
A9: Starbucks transaction-based revenue | C9: 29237 | D9: 33630 | E9: 32332 | F9: 47084 | G9: 38838 | H9: 32867 | I9: 7164 | J9: 34 | AM9: =SUMIFS($C9:$V9,$C$7:$V$7,AM$7) -> 142283 | AN9: =SUMIFS($C9:$V9,$C$7:$V$7,AN$7) -> 78903
A10: Transaction-based costs | C10: 132107 | D10: 165823 | E10: 182007 | F10: 192730 | G10: 194276 | H10: 234857 | I10: 254061 | J10: 260006 | K10: 257778 | L10: 311092 | M10: 328043 | N10: 333377 | O10: 327911 | P10: 395349 | Q10: 414456 | R10: 420846 | S10: 409069 | T10: 490349 | U10: 519312 | V10: ='GAAP IS'!V17 -> 519381 | W10: ='GAAP IS'!W17 -> 466466 | X10: ='GAAP IS'!X17 -> 389136 | Y10: ='GAAP IS'!Y17 -> 524056 | Z10: ='GAAP IS'!Z17 -> 536986 | AA10: ='GAAP IS'!AA17 -> 524281 | AB10: ='GAAP IS'!AB17 -> 682348 | AC10: ='GAAP IS'!AC17 -> 751794 | ... AE10: ='GAAP IS'!AE17 -> 716236 | AF10: 875762 | AG10: ='GAAP IS'!AG17 -> 901990 | AH10: ='GAAP IS'!AH17 -> 870040 | AI10: ='GAAP IS'!AI17 -> 820787 | AJ10: ='GAAP IS'!AJ17 -> 950523 | AK10: ='GAAP IS'!AK17 -> 984658 | AM10: =SUMIFS($C10:$AD10,$C$7:$AD$7,AM$7) -> 672667 | AN10: =SUMIFS($C10:$AD10,$C$7:$AD$7,AN$7) -> 943200 | AO10: =SUMIFS($C10:$AD10,$C$7:$AD$7,AO$7) -> 1230290 | AP10: =SUMIFS($C10:$AD10,$C$7:$AD$7,AP$7) -> 1558562 | AQ10: =SUMIFS($C10:$AD10,$C$7:$AD$7,AQ$7) -> 1938111 | AR10: =SUMIFS($C10:$AD10,$C$7:$AD$7,AR$7) -> 1916644 | AS10: =SUMIFS($C10:$AD10,$C$7:$AD$7,AS$7) -> 2719502 | AT10: =SUMIFS($C10:$AH10,$C$7:$AH$7,AT$7) -> 3364028 | AV10: =SUMIFS($C10:$AJ10,$C$5:$AJ$5,"<="&AV$5,$C$5:$AJ$5,">"&EOMONTH(AV$5,-12)) -> 3255067 | AW10: =SUMIFS($C10:$AK10,$C$5:$AK$5,"<="&AW$5,$C$5:$AK$5,">"&EOMONTH(AW$5,-12)) -> 3626008
A11: Bitcoin costs | O11: 33872 | P11: 36596 | Q11: 42408 | R11: 51951 | S11: 64696 | T11: 122938 | U11: 146167 | V11: ='GAAP IS'!V21 -> 174438 | W11: ='GAAP IS'!W21 -> 299426 | X11: ='GAAP IS'!X21 -> 858041 | Y11: ='GAAP IS'!Y21 -> 1601615 | Z11: ='GAAP IS'!Z21 -> 1715452 | AA11: ='GAAP IS'!AA21 -> 3436135 | AB11: ='GAAP IS'!AB21 -> 2669641 | AC11: ='GAAP IS'!AC21 -> 1774040 | ... AE11: ='GAAP IS'!AE21 -> 1687459 | AF11: 1744425 | AG11: ='GAAP IS'!AG21 -> 1726051 | AH11: ='GAAP IS'!AH21 -> 1798798 | AI11: ='GAAP IS'!AI21 -> 2113375 | AJ11: ='GAAP IS'!AJ21 -> 2346633 | AK11: ='GAAP IS'!AK21 -> 2378906 | AP11: =SUMIFS($C11:$AD11,$C$7:$AD$7,AP$7) -> 164827 | AQ11: =SUMIFS($C11:$AD11,$C$7:$AD$7,AQ$7) -> 508239 | AR11: =SUMIFS($C11:$AD11,$C$7:$AD$7,AR$7) -> 4474534 | AS11: =SUMIFS($C11:$AD11,$C$7:$AD$7,AS$7) -> 9794992 | AT11: =SUMIFS($C11:$AH11,$C$7:$AH$7,AT$7) -> 6956733 | AV11: =SUMIFS($C11:$AJ11,$C$5:$AJ$5,"<="&AV$5,$C$5:$AJ$5,">"&EOMONTH(AV$5,-12)) -> 7073111 | AW11: =SUMIFS($C11:$AK11,$C$5:$AK$5,"<="&AW$5,$C$5:$AK$5,">"&EOMONTH(AW$5,-12)) -> 8637712
A12: Deferred revenue adj. related to purchase accounting | P12: 2440 | Q12: 5892 | R12: 4521 | S12: 3456 | T12: 1849 | U12: 1224 | AP12: =SUMIFS($C12:$AD12,$C$7:$AD$7,AP$7) -> 12853 | AQ12: =SUMIFS($C12:$AD12,$C$7:$AD$7,AQ$7) -> 6529
A13: Adjusted Revenue(1) | C13: =C8-C9-C10-C11+C12 -> 89213 | D13: =D8-D9-D10-D11+D12 -> 110560 | E13: =E8-E9-E10-E11+E12 -> 117849 | F13: =F8-F9-F10-F11+F12 -> 134546 | G13: =G8-G9-G10-G11+G12 -> 146155 | H13: =H8-H9-H10-H11+H12 -> 170809 | I13: =I8-I9-I10-I11+I12 -> 177777 | J13: =J8-J9-J10-J11+J12 -> 191877 | K13: =K8-K10-K11+K12 -> 203776 | L13: =L8-L10-L11+L12 -> 240413 | M13: =M8-M10-M11+M12 -> 257116 | N13: =N8-N10-N11+N12 -> 282658 | O13: =O8-O10-O11+O12 -> 306820 | P13: =P8-P10-P11+P12 -> 385433 | Q13: =Q8-Q10-Q11+Q12 -> 431136 | R13: =R8-R10-R11+R12 -> 464252 | ... AK13: =AK8-AK10-AK11+AK12 -> 2253929 | AM13: =SUMIFS($C13:$V13,$C$7:$V$7,AM$7) -> 452168 | AN13: =SUMIFS($C13:$V13,$C$7:$V$7,AN$7) -> 686618 | AO13: =SUMIFS($C13:$AE13,$C$7:$AE$7,AO$7) -> 983963 | AP13: =SUMIFS($C13:$AE13,$C$7:$AE$7,AP$7) -> 1587641
A15: Revenue from Zesty and Weebly | P15: 12540 | Q15: 25027 | R15: 26152 | S15: 28000
A16: Deferred revenue adj. related to purchase accounting | P16: =P12 -> 2440 | Q16: =Q12 -> 5892 | R16: =R12 -> 4521 | S16: =S12 -> 3456
A17: Adjusted Revenue (excl. Weebly and Zesty) | P17: =1077490-SUM(O13,Q17) -> 370453 | Q17: =Q13-SUM(Q15:Q16) -> 400217 | R17: =R13-SUM(R15:R16) -> 433579 | S17: =S13-SUM(S15:S16) -> 457594
A19: Gross profit, in accordance with GAAP | C19: ='GAAP IS'!C24 -> 74285 | D19: ='GAAP IS'!D24 -> 90342 | E19: ='GAAP IS'!E24 -> 96310 | F19: ='GAAP IS'!F24 -> 109093 | G19: ='GAAP IS'!G24 -> 110240 | H19: ='GAAP IS'!H24 -> 148959 | I19: ='GAAP IS'!I24 -> 150314 | J19: ='GAAP IS'!J24 -> 166525 | ... AK19: ='GAAP IS'!AK24 -> 1898449 | AM19: =SUMIFS($C19:$V19,$C$7:$V$7,AM$7) -> 370030 | AN19: =SUMIFS($C19:$V19,$C$7:$V$7,AN$7) -> 576038 | AO19: =SUMIFS($C19:$V19,$C$7:$V$7,AO$7) -> 839306 | AP19: =SUMIFS($C19:$V19,$C$7:$V$7,AP$7) -> 1303700 | AQ19: =SUMIFS($C19:$V19,$C$7:$V$7,AQ$7) -> 1889685 | AR19: =SUMIFS($C19:$Z19,$C$7:$Z$7,AR$7) -> 2733409 | AS19: =SUMIFS($C19:$AD19,$C$7:$AD$7,AS$7) -> 4419822 | AT19: =SUMIFS($C19:$AH19,$C$7:$AH$7,AT$7) -> 5991892 | AV19: =SUMIFS($C19:$AJ19,$C$5:$AJ$5,"<="&AV$5,$C$5:$AJ$5,">"&EOMONTH(AV$5,-12)) -> 5513739 | AW19: =SUMIFS($C19:$AK19,$C$5:$AK$5,"<="&AW$5,$C$5:$AK$5,">"&EOMONTH(AW$5,-12)) -> 7139329
A21: Operating expenses, in accordance with GAAP | C21: ='GAAP IS'!C33 -> 120635 | D21: ='GAAP IS'!D33 -> 118416 | E21: ='GAAP IS'!E33 -> 148527 | F21: ='GAAP IS'!F33 -> 156910 | G21: ='GAAP IS'!G33 -> 207373 | H21: ='GAAP IS'!H33 -> 176319 | I21: ='GAAP IS'!I33 -> 182296 | J21: ='GAAP IS'!J33 -> 180503 | ... AK21: ='GAAP IS'!AK33 -> 1908357 | AM21: =SUMIFS($C21:$V21,$C$7:$V$7,AM$7) -> 544488 | AN21: =SUMIFS($C21:$V21,$C$7:$V$7,AN$7) -> 746491 | AO21: =SUMIFS($C21:$V21,$C$7:$V$7,AO$7) -> 893512 | AP21: =SUMIFS($C21:$V21,$C$7:$V$7,AP$7) -> 1340314 | AQ21: =SUMIFS($C21:$V21,$C$7:$V$7,AQ$7) -> 1863128 | AR21: =SUMIFS($C21:$Z21,$C$7:$Z$7,AR$7) -> 2752224 | AS21: =SUMIFS($C21:$AD21,$C$7:$AD$7,AS$7) -> 4258711 | AT21: =SUMIFS($C21:$AH21,$C$7:$AH$7,AT$7) -> 6616424 | AV21: =SUMIFS($C21:$AJ21,$C$5:$AJ$5,"<="&AV$5,$C$5:$AJ$5,">"&EOMONTH(AV$5,-12)) -> 6057705 | AW21: =SUMIFS($C21:$AK21,$C$5:$AK$5,"<="&AW$5,$C$5:$AK$5,">"&EOMONTH(AW$5,-12)) -> 7422697
A22: Share-based compensation | C22: 13461 | D22: 15232 | E22: 20793 | F22: 32806 | G22: 31198 | H22: 36922 | I22: 36779 | J22: 33887 | K22: 31670 | L22: 39575 | M22: 40019 | N22: 44495 | O22: 46793 | P22: 52089 | Q22: 58895 | R22: 59007 | S22: 61067 | T22: 79437 | U22: 77388 | V22: 79816 | W22: 77227 | X22: 96085 | Y22: 110289 | Z22: 113531 | AA22: 118524 | AB22: 146253 | AC22: 164912 | AD22: 177943 | AE22: 275314 | AF22: 256499 | AG22: 262629 | AH22: 274353 | AI22: 279449 | AJ22: 319106 | AK22: 345547 | AM22: =SUMIFS($C22:$V22,$C$7:$V$7,AM$7) -> 82292 | AN22: =SUMIFS($C22:$V22,$C$7:$V$7,AN$7) -> 138786 | AO22: =SUMIFS($C22:$V22,$C$7:$V$7,AO$7) -> 155759 | AP22: =SUMIFS($C22:$V22,$C$7:$V$7,AP$7) -> 216784 | AQ22: =SUMIFS($C22:$V22,$C$7:$V$7,AQ$7) -> 297708 | AR22: =SUMIFS($C22:$Z22,$C$7:$Z$7,AR$7) -> 397132 | AS22: =SUMIFS($C22:$AD22,$C$7:$AD$7,AS$7) -> 607632 | AT22: =SUMIFS($C22:$AH22,$C$7:$AH$7,AT$7) -> 1068795 | AV22: =SUMIFS($C22:$AJ22,$C$5:$AJ$5,"<="&AV$5,$C$5:$AJ$5,">"&EOMONTH(AV$5,-12)) -> 972385 | AW22: =SUMIFS($C22:$AK22,$C$5:$AK$5,"<="&AW$5,$C$5:$AK$5,">"&EOMONTH(AW$5,-12)) -> 1218455
A23: Depreciation and amortization | C23: 4943 | D23: 5268 | E23: 5428 | F23: 5165 | G23: 6189 | H23: 6573 | I23: 7230 | J23: 7544 | K23: 7531 | L23: 7400 | M23: 7498 | N23: 8115 | O23: 8580 | P23: 10242 | Q23: 13215 | R23: 20754 | S23: 17236 | T23: 16873 | U23: 17084 | V23: 16691 | W23: 17635 | X23: =18788 -> 18788 | Y23: 17507 | Z23: 18966 | AA23: 24901 | AB23: 22989 | AC23: 31760 | AD23: 32461 | AE23: 54587 | AF23: 72715 | AG23: 69500 | AH23: 71874 | AI23: 73951 | AJ23: 74961 | AK23: 96446 | AM23: =SUMIFS($C23:$V23,$C$7:$V$7,AM$7) -> 20804 | AN23: =SUMIFS($C23:$V23,$C$7:$V$7,AN$7) -> 27536 | AO23: =SUMIFS($C23:$V23,$C$7:$V$7,AO$7) -> 30544 | AP23: =SUMIFS($C23:$V23,$C$7:$V$7,AP$7) -> 52791 | AQ23: =SUMIFS($C23:$V23,$C$7:$V$7,AQ$7) -> 67884 | AR23: =SUMIFS($C23:$Z23,$C$7:$Z$7,AR$7) -> 72896 | AS23: =SUMIFS($C23:$AD23,$C$7:$AD$7,AS$7) -> 112111 | AT23: =SUMIFS($C23:$AH23,$C$7:$AH$7,AT$7) -> 268676 | AV23: =SUMIFS($C23:$AJ23,$C$5:$AJ$5,"<="&AV$5,$C$5:$AJ$5,">"&EOMONTH(AV$5,-12)) -> 229263 | AW23: =SUMIFS($C23:$AK23,$C$5:$AK$5,"<="&AW$5,$C$5:$AK$5,">"&EOMONTH(AW$5,-12)) -> 317232
A24: Acquisition related, integration and other costs | P24: 4363 | Q24: 345 | S24: 782 | T24: 6133 | U24: 1564 | V24: 1260 | W24: 1524 | X24: 2056 | Y24: 359 | Z24: 3543 | AA24: 26 | AB24: 14292 | AC24: 308 | AD24: 20848 | AE24: 76065 | AF24: 17067 | AG24: 23470 | AH24: 40662 | AI24: 1551 | AJ24: 102349 | AK24: 24812 | AM24: =SUMIFS($C24:$V24,$C$7:$V$7,AM$7) -> 0 | AN24: =SUMIFS($C24:$V24,$C$7:$V$7,AN$7) -> 0 | AO24: =SUMIFS($C24:$V24,$C$7:$V$7,AO$7) -> 0 | AP24: =SUMIFS($C24:$V24,$C$7:$V$7,AP$7) -> 4708 | AQ24: =SUMIFS($C24:$V24,$C$7:$V$7,AQ$7) -> 9739 | AR24: =SUMIFS($C24:$Z24,$C$7:$Z$7,AR$7) -> 7482 | AS24: =SUMIFS($C24:$AD24,$C$7:$AD$7,AS$7) -> 35474 | AT24: =SUMIFS($C24:$AH24,$C$7:$AH$7,AT$7) -> 157264 | AV24: =SUMIFS($C24:$AJ24,$C$5:$AJ$5,"<="&AV$5,$C$5:$AJ$5,">"&EOMONTH(AV$5,-12)) -> 137450 | AW24: =SUMIFS($C24:$AK24,$C$5:$AK$5,"<="&AW$5,$C$5:$AK$5,">"&EOMONTH(AW$5,-12)) -> 169374
A25: Bitcoin impairment losses | AA25: 19860 | AB25: 45266 | AC25: 6000 | AD25: 0 | AE25: 0 | AF25: 35961 | AG25: 1619 | AH25: 8991 | AI25: 0 | AJ25: 0 | AK25: 0 | AS25: =SUMIFS($C25:$AD25,$C$7:$AD$7,AS$7) -> 71126 | AT25: =SUMIFS($C25:$AH25,$C$7:$AH$7,AT$7) -> 46571 | AV25: =SUMIFS($C25:$AJ25,$C$5:$AJ$5,"<="&AV$5,$C$5:$AJ$5,">"&EOMONTH(AV$5,-12)) -> 37580 | AW25: =SUMIFS($C25:$AK25,$C$5:$AK$5,"<="&AW$5,$C$5:$AK$5,">"&EOMONTH(AW$5,-12)) -> 8991
A26: Litigation settlement expense | G26: 50000 | H26: -2000 | AN26: =SUMIFS($C26:$V26,$C$7:$V$7,AN$7) -> 48000
A27: Loss (gain) on disposal of property and equipment | C27: 240 | F27: 30 | G27: -38 | H27: 169 | I27: -219 | J27: 39 | L27: 2 | M27: 62 | N27: 36 | O27: -98 | P27: 73 | Q27: 806 | R27: -1005 | S27: 19 | T27: 281 | U27: 128 | V27: 580 | W27: 218 | X27: 1481 | Y27: 396 | Z27: 475 | AA27: 615 | AB27: 374 | AC27: 877 | AD27: 767 | AE27: 534 | AF27: 548 | AG27: -447 | AH27: 984 | AI27: 191 | AJ27: 343 | AK27: 1355 | AM27: =SUMIFS($C27:$V27,$C$7:$V$7,AM$7) -> 270 | AN27: =SUMIFS($C27:$V27,$C$7:$V$7,AN$7) -> -49 | AO27: =SUMIFS($C27:$V27,$C$7:$V$7,AO$7) -> 100 | AP27: =SUMIFS($C27:$V27,$C$7:$V$7,AP$7) -> -224 | AQ27: =SUMIFS($C27:$V27,$C$7:$V$7,AQ$7) -> 1008 | AR27: =SUMIFS($C27:$Z27,$C$7:$Z$7,AR$7) -> 2570 | AS27: =SUMIFS($C27:$AD27,$C$7:$AD$7,AS$7) -> 2633 | AT27: =SUMIFS($C27:$AH27,$C$7:$AH$7,AT$7) -> 1619 | AV27: =SUMIFS($C27:$AJ27,$C$5:$AJ$5,"<="&AV$5,$C$5:$AJ$5,">"&EOMONTH(AV$5,-12)) -> 1402 | AW27: =SUMIFS($C27:$AK27,$C$5:$AK$5,"<="&AW$5,$C$5:$AK$5,">"&EOMONTH(AW$5,-12)) -> 2873
A28: Non-GAAP operating expenses | C28: =C21-SUM(C22:C27) -> 101991 | D28: =D21-SUM(D22:D27) -> 97916 | E28: =E21-SUM(E22:E27) -> 122306 | F28: =F21-SUM(F22:F27) -> 118909 | G28: =G21-SUM(G22:G27) -> 120024 | H28: =H21-SUM(H22:H27) -> 134655 | I28: =I21-SUM(I22:I27) -> 138506 | J28: =J21-SUM(J22:J27) -> 139033 | ... AK28: =AK21-SUM(AK22:AK27) -> 1440197 | AM28: =SUMIFS($C28:$V28,$C$7:$V$7,AM$7) -> 441122 | AN28: =SUMIFS($C28:$V28,$C$7:$V$7,AN$7) -> 532218 | AO28: =SUMIFS($C28:$V28,$C$7:$V$7,AO$7) -> 707109 | AP28: =SUMIFS($C28:$V28,$C$7:$V$7,AP$7) -> 1066255 | AQ28: =SUMIFS($C28:$V28,$C$7:$V$7,AQ$7) -> 1486789 | AR28: =SUMIFS($C28:$Z28,$C$7:$Z$7,AR$7) -> 2272144 | AS28: =SUMIFS($C28:$AD28,$C$7:$AD$7,AS$7) -> 3429735 | AT28: =SUMIFS($C28:$AH28,$C$7:$AH$7,AT$7) -> 5073499 | AV28: =SUMIFS($C28:$AJ28,$C$5:$AJ$5,"<="&AV$5,$C$5:$AJ$5,">"&EOMONTH(AV$5,-12)) -> 4679625 | AW28: =SUMIFS($C28:$AK28,$C$5:$AK$5,"<="&AW$5,$C$5:$AK$5,">"&EOMONTH(AW$5,-12)) -> 5705772
A30: Other adjustments(2) | C30: 7577 | D30: 8433 | E30: 10220 | F30: 3747 | G30: 701 | H30: -1750 | I30: -185 | J30: 2301 | K30: =(K60-K22+(K61-K23)+K71) -> 1906 | L30: =(L60-L22+(L61-L23)+L71) -> 1743 | M30: =(M60-M22+(M61-M23)+M71) -> 1616 | N30: =(N60-N22+(N61-N23)+N71) -> 1547 | O30: =(O60-O22+(O61-O23)+O71) -> 1611 | P30: =(P60-P22+(P61-P23)+P71) -> 4202 | Q30: =(Q60-Q22+(Q61-Q23)+Q71) -> 7603 | R30: =(R60-R22+(R61-R23)+R71) -> 5662 | ... AK30: =(AK60-AK22+(AK61-AK23)+AK71) -> 19236 | AM30: =SUMIFS($C30:$V30,$C$7:$V$7,AM$7) -> 29977 | AN30: =SUMIFS($C30:$V30,$C$7:$V$7,AN$7) -> 1067 | AO30: =SUMIFS($C30:$V30,$C$7:$V$7,AO$7) -> 6812 | AP30: =SUMIFS($C30:$V30,$C$7:$V$7,AP$7) -> 19078 | AQ30: =SUMIFS($C30:$V30,$C$7:$V$7,AQ$7) -> 13957 | AR30: =SUMIFS($C30:$Z30,$C$7:$Z$7,AR$7) -> 12806 | AS30: =SUMIFS($C30:$AD30,$C$7:$AD$7,AS$7) -> 23569 | AT30: =SUMIFS($C30:$AH30,$C$7:$AH$7,AT$7) -> 72571 | AV30: =SUMIFS($C30:$AJ30,$C$5:$AJ$5,"<="&AV$5,$C$5:$AJ$5,">"&EOMONTH(AV$5,-12)) -> 60130 | AW30: =SUMIFS($C30:$AK30,$C$5:$AK$5,"<="&AW$5,$C$5:$AK$5,">"&EOMONTH(AW$5,-12)) -> 77601
A32: Adjusted EBITDA | C32: =C19-C28+C30 -> -20129 | D32: =D19-D28+D30 -> 859 | E32: =E19-E28+E30 -> -15776 | F32: =F19-F28+F30 -> -6069 | G32: =G19-G28+G30 -> -9083 | H32: =H19-H28+H30 -> 12554 | I32: =I19-I28+I30 -> 11623 | J32: =J19-J28+J30 -> 29793 | ... AK32: =AK19-AK28+AK30 -> 477488 | AM32: =SUMIFS($C32:$V32,$C$7:$V$7,AM$7) -> -41115 | AN32: =SUMIFS($C32:$V32,$C$7:$V$7,AN$7) -> 44887 | AO32: =SUMIFS($C32:$V32,$C$7:$V$7,AO$7) -> 139009 | AP32: =SUMIFS($C32:$V32,$C$7:$V$7,AP$7) -> 256523 | AQ32: =SUMIFS($C32:$V32,$C$7:$V$7,AQ$7) -> 416853 | AR32: =SUMIFS($C32:$AB32,$C$7:$AB$7,AR$7) -> 474071 | AS32: =AS19-AS28+AS30 -> 1013656 | AT32: =SUMIFS($C32:$AH32,$C$7:$AH$7,AT$7) -> 990964 | AV32: =SUMIFS($C32:$AJ32,$C$5:$AJ$5,"<="&AV$5,$C$5:$AJ$5,">"&EOMONTH(AV$5,-12)) -> 894244 | AW32: =SUMIFS($C32:$AK32,$C$5:$AK$5,"<="&AW$5,$C$5:$AK$5,">"&EOMONTH(AW$5,-12)) -> 1511158
A34: GAAP product development | C34: ='GAAP IS'!C27 -> 39545 | D34: ='GAAP IS'!D27 -> 45887 | E34: ='GAAP IS'!E27 -> 55020 | F34: ='GAAP IS'!F27 -> 59186 | G34: ='GAAP IS'!G27 -> 64592 | H34: ='GAAP IS'!H27 -> 68638 | I34: ='GAAP IS'!I27 -> 70418 | J34: ='GAAP IS'!J27 -> 64889 | ... AK34: ='GAAP IS'!AK27 -> 713788 | AM34: =SUMIFS($C34:$V34,$C$7:$V$7,AM$7) -> 199638 | AN34: =SUMIFS($C34:$V34,$C$7:$V$7,AN$7) -> 268537 | AO34: =SUMIFS($C34:$V34,$C$7:$V$7,AO$7) -> 321888 | AP34: =SUMIFS($C34:$V34,$C$7:$V$7,AP$7) -> 497479 | AQ34: =SUMIFS($C34:$V34,$C$7:$V$7,AQ$7) -> 674165 | AR34: =SUMIFS($C34:$Z34,$C$7:$Z$7,AR$7) -> 885681 | AS34: =SUMIFS($C34:$AD34,$C$7:$AD$7,AS$7) -> 1383841 | AT34: =SUMIFS($C34:$AH34,$C$7:$AH$7,AT$7) -> 2135612 | AV34: =SUMIFS($C34:$AJ34,$C$5:$AJ$5,"<="&AV$5,$C$5:$AJ$5,">"&EOMONTH(AV$5,-12)) -> 1922431 | AW34: =SUMIFS($C34:$AK34,$C$5:$AK$5,"<="&AW$5,$C$5:$AK$5,">"&EOMONTH(AW$5,-12)) -> 2639921
A35: Share-based compensation | C35: 8958 | D35: 10391 | E35: 13938 | F35: 21451 | G35: 21947 | H35: 24168 | I35: 23949 | J35: 21340 | K35: 19356 | L35: 25136 | M35: 25254 | N35: 28564 | O35: 30482 | P35: 33806 | Q35: 39525 | R35: 40788 | S35: 42649 | T35: 56144 | U35: 56321 | V35: 55726 | W35: 57400 | X35: 69565 | Y35: 78682 | Z35: 83906 | AA35: 86895 | AB35: 106161 | AC35: 121209 | AD35: 132331 | AE35: 145075 | AF35: 179137 | AG35: 184569 | AH35: 192934 | AI35: 197857 | AJ35: 223411 | AK35: 245244 | AM35: =SUMIFS($C35:$V35,$C$7:$V$7,AM$7) -> 54738 | AN35: =SUMIFS($C35:$V35,$C$7:$V$7,AN$7) -> 91404 | AO35: =SUMIFS($C35:$V35,$C$7:$V$7,AO$7) -> 98310 | AP35: =SUMIFS($C35:$V35,$C$7:$V$7,AP$7) -> 144601 | AQ35: =SUMIFS($C35:$V35,$C$7:$V$7,AQ$7) -> 210840 | AR35: =SUMIFS($C35:$Z35,$C$7:$Z$7,AR$7) -> 289553 | AS35: =SUMIFS($C35:$AD35,$C$7:$AD$7,AS$7) -> 446596 | AT35: =SUMIFS($C35:$AH35,$C$7:$AH$7,AT$7) -> 701715 | AV35: =SUMIFS($C35:$AJ35,$C$5:$AJ$5,"<="&AV$5,$C$5:$AJ$5,">"&EOMONTH(AV$5,-12)) -> 641112 | AW35: =SUMIFS($C35:$AK35,$C$5:$AK$5,"<="&AW$5,$C$5:$AK$5,">"&EOMONTH(AW$5,-12)) -> 859446
A36: Depreciation and amortization | C36: 2881 | D36: 3055 | E36: 3171 | F36: 2240 | G36: 3141 | H36: 3128 | I36: 3282 | J36: 3639 | K36: 3712 | L36: 3436 | M36: 4586 | N36: 5221 | O36: 5473 | P36: 5974 | Q36: 7831 | R36: 14029 | S36: 11142 | T36: 11478 | U36: 11933 | V36: 11446 | W36: 12336 | X36: 12696 | Y36: 11546 | Z36: 12647 | AA36: 17395 | AB36: 15400 | AC36: 22987 | AD36: 20299 | AE36: 26850.91 | AF36: 33705 | AG36: 31767 | AH36: 29943 | AI36: 30537 | AJ36: 41829 | AK36: 37520 | AM36: =SUMIFS($C36:$V36,$C$7:$V$7,AM$7) -> 11347 | AN36: =SUMIFS($C36:$V36,$C$7:$V$7,AN$7) -> 13190 | AO36: =SUMIFS($C36:$V36,$C$7:$V$7,AO$7) -> 16955 | AP36: =SUMIFS($C36:$V36,$C$7:$V$7,AP$7) -> 33307 | AQ36: =SUMIFS($C36:$V36,$C$7:$V$7,AQ$7) -> 45999 | AR36: =SUMIFS($C36:$Z36,$C$7:$Z$7,AR$7) -> 49225 | AS36: =SUMIFS($C36:$AD36,$C$7:$AD$7,AS$7) -> 76081 | AT36: =SUMIFS($C36:$AH36,$C$7:$AH$7,AT$7) -> 122265.91 | AV36: =SUMIFS($C36:$AJ36,$C$5:$AJ$5,"<="&AV$5,$C$5:$AJ$5,">"&EOMONTH(AV$5,-12)) -> 112621.91 | AW36: =SUMIFS($C36:$AK36,$C$5:$AK$5,"<="&AW$5,$C$5:$AK$5,">"&EOMONTH(AW$5,-12)) -> 139829
A37: Loss (gain) on disposal of property equipment | H37: 169 | I37: -169 | Q37: 712 | R37: -986 | S37: -71 | V37: 379 | W37: 158 | X37: 147 | Y37: 381 | Z37: 198 | AA37: 339 | AB37: 6 | AC37: 840 | AD37: 385 | AE37: -19 | AF37: 29 | AG37: 451 | AH37: 0 | AI37: 324 | AJ37: -12 | AK37: 562 | AM37: =SUMIFS($C37:$V37,$C$7:$V$7,AM$7) -> 0 | AN37: =SUMIFS($C37:$V37,$C$7:$V$7,AN$7) -> 0 | AO37: =SUMIFS($C37:$V37,$C$7:$V$7,AO$7) -> 0 | AP37: =SUMIFS($C37:$V37,$C$7:$V$7,AP$7) -> -274 | AQ37: =SUMIFS($C37:$V37,$C$7:$V$7,AQ$7) -> 308 | AR37: =SUMIFS($C37:$Z37,$C$7:$Z$7,AR$7) -> 884 | AS37: =SUMIFS($C37:$AD37,$C$7:$AD$7,AS$7) -> 1570 | AT37: =SUMIFS($C37:$AH37,$C$7:$AH$7,AT$7) -> 461 | AV37: =SUMIFS($C37:$AJ37,$C$5:$AJ$5,"<="&AV$5,$C$5:$AJ$5,">"&EOMONTH(AV$5,-12)) -> 846 | AW37: =SUMIFS($C37:$AK37,$C$5:$AK$5,"<="&AW$5,$C$5:$AK$5,">"&EOMONTH(AW$5,-12)) -> 874
C38: =C34-SUM(C35:C37) -> 27706 | D38: =D34-SUM(D35:D37) -> 32441 | E38: =E34-SUM(E35:E37) -> 37911 | F38: =F34-SUM(F35:F37) -> 35495 | G38: =G34-SUM(G35:G37) -> 39504 | H38: =H34-SUM(H35:H37) -> 41173 | I38: =I34-SUM(I35:I37) -> 43356 | J38: =J34-SUM(J35:J37) -> 39910 | ... AK38: =AK34-SUM(AK35:AK37) -> 430462 | AM38: =SUMIFS($C38:$V38,$C$7:$V$7,AM$7) -> 133553 | AN38: =SUMIFS($C38:$V38,$C$7:$V$7,AN$7) -> 163943 | AO38: =SUMIFS($C38:$V38,$C$7:$V$7,AO$7) -> 206623 | AP38: =SUMIFS($C38:$V38,$C$7:$V$7,AP$7) -> 319845 | AQ38: =SUMIFS($C38:$V38,$C$7:$V$7,AQ$7) -> 417018 | AR38: =SUMIFS($C38:$Z38,$C$7:$Z$7,AR$7) -> 546019 | AS38: =AS34-SUM(AS35:AS37) -> 859594 | AT38: =SUMIFS($C38:$AH38,$C$7:$AH$7,AT$7) -> 1311170.1 | AV38: =SUMIFS($C38:$AJ38,$C$5:$AJ$5,"<="&AV$5,$C$5:$AJ$5,">"&EOMONTH(AV$5,-12)) -> 1167851.1 | AW38: =SUMIFS($C38:$AK38,$C$5:$AK$5,"<="&AW$5,$C$5:$AK$5,">"&EOMONTH(AW$5,-12)) -> 1639772
A40: GAAP sales and marketing | C40: ='GAAP IS'!C28 -> 36181 | D40: ='GAAP IS'!D28 -> 31730 | E40: ='GAAP IS'!E28 -> 39259 | F40: ='GAAP IS'!F28 -> 38448 | G40: ='GAAP IS'!G28 -> 38496 | H40: ='GAAP IS'!H28 -> 39220 | I40: ='GAAP IS'!I28 -> 46754 | J40: ='GAAP IS'!J28 -> 49406 | ... AK40: ='GAAP IS'!AK28 -> 479381 | AM40: =SUMIFS($C40:$V40,$C$7:$V$7,AM$7) -> 145618 | AN40: =SUMIFS($C40:$V40,$C$7:$V$7,AN$7) -> 173876 | AO40: =SUMIFS($C40:$V40,$C$7:$V$7,AO$7) -> 253170 | AP40: =SUMIFS($C40:$V40,$C$7:$V$7,AP$7) -> 411151 | AQ40: =SUMIFS($C40:$V40,$C$7:$V$7,AQ$7) -> 625126 | AR40: =SUMIFS($C40:$Z40,$C$7:$Z$7,AR$7) -> 1109670 | AS40: =SUMIFS($C40:$AD40,$C$7:$AD$7,AS$7) -> 1617189 | AT40: =SUMIFS($C40:$AH40,$C$7:$AH$7,AT$7) -> 2057951 | AV40: =SUMIFS($C40:$AJ40,$C$5:$AJ$5,"<="&AV$5,$C$5:$AJ$5,">"&EOMONTH(AV$5,-12)) -> 2003005 | AW40: =SUMIFS($C40:$AK40,$C$5:$AK$5,"<="&AW$5,$C$5:$AK$5,">"&EOMONTH(AW$5,-12)) -> 2052723
A41: Share-based compensation | C41: 1429 | D41: 1345 | E41: 1750 | F41: 2836 | G41: 2903 | H41: 3363 | I41: 3697 | J41: 4159 | K41: 3935 | L41: 4355 | M41: 4579 | N41: 4699 | O41: 4961 | P41: 5634 | Q41: 6108 | R41: 6094 | S41: 6202 | T41: 7833 | U41: 6269 | V41: 6416 | W41: 6407 | X41: 8884 | Y41: 12063 | Z41: 9273 | AA41: 10880 | AB41: 13777 | AC41: 16023 | AD41: 16390 | AE41: 21256 | AF41: 25133 | AG41: 28744 | AH41: 30098 | AI41: 29365 | AJ41: 32790 | AK41: 35703 | AM41: =SUMIFS($C41:$V41,$C$7:$V$7,AM$7) -> 7360 | AN41: =SUMIFS($C41:$V41,$C$7:$V$7,AN$7) -> 14122 | AO41: =SUMIFS($C41:$V41,$C$7:$V$7,AO$7) -> 17568 | AP41: =SUMIFS($C41:$V41,$C$7:$V$7,AP$7) -> 22797 | AQ41: =SUMIFS($C41:$V41,$C$7:$V$7,AQ$7) -> 26720 | AR41: =SUMIFS($C41:$Z41,$C$7:$Z$7,AR$7) -> 36627 | AS41: =SUMIFS($C41:$AD41,$C$7:$AD$7,AS$7) -> 57070 | AT41: =SUMIFS($C41:$AH41,$C$7:$AH$7,AT$7) -> 105231 | AV41: =SUMIFS($C41:$AJ41,$C$5:$AJ$5,"<="&AV$5,$C$5:$AJ$5,">"&EOMONTH(AV$5,-12)) -> 91523 | AW41: =SUMIFS($C41:$AK41,$C$5:$AK$5,"<="&AW$5,$C$5:$AK$5,">"&EOMONTH(AW$5,-12)) -> 127956
A42: Depreciation and amortization | C42: 4 | E42: 3 | F42: 3 | G42: 2 | H42: 6 | I42: 5 | J42: 17 | K42: 77 | L42: 98 | M42: 650 | N42: 590 | O42: 609 | P42: 952 | Q42: 1608 | R42: 1238 | S42: 1078 | T42: 1085 | U42: 1093 | V42: 1188 | W42: 964 | X42: 1033 | Y42: 1060 | Z42: 1095 | AA42: 1273 | AB42: 2450 | AC42: -7 | AD42: 1426 | AE42: 1491 | AF42: 1438 | AG42: 1591 | AH42: 1677 | AI42: 1458 | AJ42: 1970 | AK42: 1945 | AM42: =SUMIFS($C42:$V42,$C$7:$V$7,AM$7) -> 10 | AN42: =SUMIFS($C42:$V42,$C$7:$V$7,AN$7) -> 30 | AO42: =SUMIFS($C42:$V42,$C$7:$V$7,AO$7) -> 1415 | AP42: =SUMIFS($C42:$V42,$C$7:$V$7,AP$7) -> 4407 | AQ42: =SUMIFS($C42:$V42,$C$7:$V$7,AQ$7) -> 4444 | AR42: =SUMIFS($C42:$Z42,$C$7:$Z$7,AR$7) -> 4152 | AS42: =SUMIFS($C42:$AD42,$C$7:$AD$7,AS$7) -> 5142 | AT42: =SUMIFS($C42:$AH42,$C$7:$AH$7,AT$7) -> 6197 | AV42: =SUMIFS($C42:$AJ42,$C$5:$AJ$5,"<="&AV$5,$C$5:$AJ$5,">"&EOMONTH(AV$5,-12)) -> 5946 | AW42: =SUMIFS($C42:$AK42,$C$5:$AK$5,"<="&AW$5,$C$5:$AK$5,">"&EOMONTH(AW$5,-12)) -> 7050
A43: Loss (gain) on disposal of property equipment | F43: 53 | G43: 18 | I43: 14 | J43: 41 | K43: 58 | L43: 2 | M43: 62 | N43: 36 | O43: 4 | P43: 76 | Q43: 91 | R43: 68 | S43: 151 | T43: 194 | U43: 83 | V43: 95 | W43: 60 | X43: -59 | Z43: -3 | AA43: 0 | AB43: 0 | AC43: 0 | AD43: 0 | AE43: 420 | AF43: 80 | AG43: -448 | AH43: 192 | AI43: 0 | AJ43: 0 | AK43: 0 | AM43: =SUMIFS($C43:$V43,$C$7:$V$7,AM$7) -> 53 | AN43: =SUMIFS($C43:$V43,$C$7:$V$7,AN$7) -> 73 | AO43: =SUMIFS($C43:$V43,$C$7:$V$7,AO$7) -> 158 | AP43: =SUMIFS($C43:$V43,$C$7:$V$7,AP$7) -> 239 | AQ43: =SUMIFS($C43:$V43,$C$7:$V$7,AQ$7) -> 523 | AR43: =SUMIFS($C43:$Z43,$C$7:$Z$7,AR$7) -> -2 | AS43: =SUMIFS($C43:$AD43,$C$7:$AD$7,AS$7) -> 0 | AT43: =SUMIFS($C43:$AH43,$C$7:$AH$7,AT$7) -> 244 | AV43: =SUMIFS($C43:$AJ43,$C$5:$AJ$5,"<="&AV$5,$C$5:$AJ$5,">"&EOMONTH(AV$5,-12)) -> 52 | AW43: =SUMIFS($C43:$AK43,$C$5:$AK$5,"<="&AW$5,$C$5:$AK$5,">"&EOMONTH(AW$5,-12)) -> 192
A44: Non-GAAP sales and marketing | C44: =C40-SUM(C41:C43) -> 34748 | D44: =D40-SUM(D41:D43) -> 30385 | E44: =E40-SUM(E41:E43) -> 37506 | F44: =F40-SUM(F41:F43) -> 35556 | G44: =G40-SUM(G41:G43) -> 35573 | H44: =H40-SUM(H41:H43) -> 35851 | I44: =I40-SUM(I41:I43) -> 43038 | J44: =J40-SUM(J41:J43) -> 45189 | ... AK44: =AK40-SUM(AK41:AK43) -> 441733 | AM44: =SUMIFS($C44:$V44,$C$7:$V$7,AM$7) -> 138195 | AN44: =SUMIFS($C44:$V44,$C$7:$V$7,AN$7) -> 159651 | AO44: =SUMIFS($C44:$V44,$C$7:$V$7,AO$7) -> 234029 | AP44: =SUMIFS($C44:$V44,$C$7:$V$7,AP$7) -> 383708 | AQ44: =SUMIFS($C44:$V44,$C$7:$V$7,AQ$7) -> 593439 | AR44: =SUMIFS($C44:$Z44,$C$7:$Z$7,AR$7) -> 1068893 | AS44: =AS40-SUM(AS41:AS43) -> 1554977 | AT44: =SUMIFS($C44:$AH44,$C$7:$AH$7,AT$7) -> 1946279 | AV44: =SUMIFS($C44:$AJ44,$C$5:$AJ$5,"<="&AV$5,$C$5:$AJ$5,">"&EOMONTH(AV$5,-12)) -> 1905484 | AW44: =SUMIFS($C44:$AK44,$C$5:$AK$5,"<="&AW$5,$C$5:$AK$5,">"&EOMONTH(AW$5,-12)) -> 1917525
A46: GAAP general and administrative | C46: ='GAAP IS'!C29 -> 28119 | D46: ='GAAP IS'!D29 -> 31804 | E46: ='GAAP IS'!E29 -> 37820 | F46: ='GAAP IS'!F29 -> 45723 | G46: ='GAAP IS'!G29 -> 96107 | H46: ='GAAP IS'!H29 -> 50784 | I46: ='GAAP IS'!I29 -> 52075 | J46: ='GAAP IS'!J29 -> 53027 | ... AK46: ='GAAP IS'!AK29 -> 480885 | AM46: =SUMIFS($C46:$V46,$C$7:$V$7,AM$7) -> 143466 | AN46: =SUMIFS($C46:$V46,$C$7:$V$7,AN$7) -> 251993 | AO46: =SUMIFS($C46:$V46,$C$7:$V$7,AO$7) -> 250553 | AP46: =SUMIFS($C46:$V46,$C$7:$V$7,AP$7) -> 339245 | AQ46: =SUMIFS($C46:$V46,$C$7:$V$7,AQ$7) -> 436878 | AR46: =SUMIFS($C46:$Z46,$C$7:$Z$7,AR$7) -> 579203 | AS46: =SUMIFS($C46:$AD46,$C$7:$AD$7,AS$7) -> 982817 | AT46: =SUMIFS($C46:$AH46,$C$7:$AH$7,AT$7) -> 1686849 | AV46: =SUMIFS($C46:$AJ46,$C$5:$AJ$5,"<="&AV$5,$C$5:$AJ$5,">"&EOMONTH(AV$5,-12)) -> 1534100 | AW46: =SUMIFS($C46:$AK46,$C$5:$AK$5,"<="&AW$5,$C$5:$AK$5,">"&EOMONTH(AW$5,-12)) -> 1914546
A47: Share-based compensation | C47: 3074 | D47: 3496 | E47: 5105 | F47: 8519 | G47: 6348 | H47: 9391 | I47: 9133 | J47: 8388 | K47: 8379 | L47: 10084 | M47: 10186 | N47: 11232 | O47: 11350 | P47: 12649 | Q47: 13262 | R47: 12125 | S47: 12216 | T47: 15460 | U47: 14798 | V47: 17674 | W47: 13420 | X47: 17636 | Y47: 19544 | Z47: 20352 | AA47: 20749 | AB47: 26315 | AC47: 27680 | AD47: 29222 | AE47: 108983 | AF47: 52229 | AG47: 49316 | AH47: 51321 | AI47: 52227 | AJ47: 62905 | AK47: 64600 | AM47: =SUMIFS($C47:$V47,$C$7:$V$7,AM$7) -> 20194 | AN47: =SUMIFS($C47:$V47,$C$7:$V$7,AN$7) -> 33260 | AO47: =SUMIFS($C47:$V47,$C$7:$V$7,AO$7) -> 39881 | AP47: =SUMIFS($C47:$V47,$C$7:$V$7,AP$7) -> 49386 | AQ47: =SUMIFS($C47:$V47,$C$7:$V$7,AQ$7) -> 60148 | AR47: =SUMIFS($C47:$Z47,$C$7:$Z$7,AR$7) -> 70952 | AS47: =SUMIFS($C47:$AD47,$C$7:$AD$7,AS$7) -> 103966 | AT47: =SUMIFS($C47:$AH47,$C$7:$AH$7,AT$7) -> 261849 | AV47: =SUMIFS($C47:$AJ47,$C$5:$AJ$5,"<="&AV$5,$C$5:$AJ$5,">"&EOMONTH(AV$5,-12)) -> 239750 | AW47: =SUMIFS($C47:$AK47,$C$5:$AK$5,"<="&AW$5,$C$5:$AK$5,">"&EOMONTH(AW$5,-12)) -> 231053
A48: Acquisition related, integration and other costs | P48: 4363 | Q48: 345 | S48: 782 | T48: 6133 | U48: 1564 | V48: 1260 | W48: 1524 | X48: 2056 | Y48: 359 | Z48: 3543 | AA48: 26 | AB48: 14292 | AC48: 308 | AD48: 20848 | AE48: 76065 | AF48: 17067 | AG48: 23470 | AH48: 40662 | AI48: 1551 | AJ48: 102349 | AK48: 24812 | AP48: =SUMIFS($C48:$V48,$C$7:$V$7,AP$7) -> 4708 | AQ48: =SUMIFS($C48:$V48,$C$7:$V$7,AQ$7) -> 9739 | AR48: =SUMIFS($C48:$Z48,$C$7:$Z$7,AR$7) -> 7482 | AS48: =SUMIFS($C48:$AD48,$C$7:$AD$7,AS$7) -> 35474 | AT48: =SUMIFS($C48:$AH48,$C$7:$AH$7,AT$7) -> 157264 | AV48: =SUMIFS($C48:$AJ48,$C$5:$AJ$5,"<="&AV$5,$C$5:$AJ$5,">"&EOMONTH(AV$5,-12)) -> 137450 | AW48: =SUMIFS($C48:$AK48,$C$5:$AK$5,"<="&AW$5,$C$5:$AK$5,">"&EOMONTH(AW$5,-12)) -> 169374
...

Sheet Operating Metrics
A1: Block, Inc.
A2: Operating Metrics
A3: (In millions, except inflows per active)
